BEGIN:VCALENDAR
VERSION:2.0
PRODID:-//Kravín - ECPv6.15.20//NONSGML v1.0//EN
CALSCALE:GREGORIAN
METHOD:PUBLISH
X-WR-CALNAME:Kravín
X-ORIGINAL-URL:https://kravin.info
X-WR-CALDESC:Akce na Kravín
REFRESH-INTERVAL;VALUE=DURATION:PT1H
X-Robots-Tag:noindex
X-PUBLISHED-TTL:PT1H
BEGIN:VTIMEZONE
TZID:Europe/Paris
BEGIN:DAYLIGHT
TZOFFSETFROM:+0100
TZOFFSETTO:+0200
TZNAME:CEST
DTSTART:20180325T010000
END:DAYLIGHT
BEGIN:STANDARD
TZOFFSETFROM:+0200
TZOFFSETTO:+0100
TZNAME:CET
DTSTART:20181028T010000
END:STANDARD
BEGIN:DAYLIGHT
TZOFFSETFROM:+0100
TZOFFSETTO:+0200
TZNAME:CEST
DTSTART:20190331T010000
END:DAYLIGHT
BEGIN:STANDARD
TZOFFSETFROM:+0200
TZOFFSETTO:+0100
TZNAME:CET
DTSTART:20191027T010000
END:STANDARD
BEGIN:DAYLIGHT
TZOFFSETFROM:+0100
TZOFFSETTO:+0200
TZNAME:CEST
DTSTART:20200329T010000
END:DAYLIGHT
BEGIN:STANDARD
TZOFFSETFROM:+0200
TZOFFSETTO:+0100
TZNAME:CET
DTSTART:20201025T010000
END:STANDARD
END:VTIMEZONE
BEGIN:VEVENT
DTSTART;TZID=Europe/Paris:20190524T200000
DTEND;TZID=Europe/Paris:20190524T200000
DTSTAMP:20260426T062037
CREATED:20190227T102424Z
LAST-MODIFIED:20190227T103209Z
UID:5609-1558728000-1558728000@kravin.info
SUMMARY:Ortel a Ondrej Ďurica
DESCRIPTION:Určitě se máte na co těšit\, jelikož tento dvojkoncert by měl být jediný na Severní Moravě. Ortel už znáte dobře a Ondreje Ďuricu někteří taky. Pro ty co ho neznají i pro ty co ho znají přidávám odkyzy na dvě nové písně. \nhttps://youtu.be/_M2p-aD0_G4 \nhttps://youtu.be/LLYMFU74pvo \nPředprodej vstupenek bude jako vždy v Ostravské hospodě Parlament\, v Pivnici u Supa v Dolním Benešově\, v Kravíně v době konání jakékoliv akce a taky jsme zavedli předprodej na webu v sekci vstupenky. Cena je v předprodeji 450\,- Kč (18euro) a na místě v den konání akce 500\,- Kč (20euro). \nTěšíme se na hojnou návštěvu.
URL:https://kravin.info/udalost/ortel-a-ondrej-durica-2/
LOCATION:Areál klubu\, Hlučínská 680\, Dolní Benešov\, Moravskoslezký kraj\, 74722\, Česká republika
ATTACH;FMTTYPE=image/jpeg:https://kravin.info/wp-content/uploads/2019/02/ortel_velky_02_2019_www.jpg
ORGANIZER;CN="Klub Krav%C3%ADn":MAILTO:kravin@kravin.info
END:VEVENT
END:VCALENDAR