BEGIN:VCALENDAR
VERSION:2.0
PRODID:-//Kravín - ECPv6.15.20//NONSGML v1.0//EN
CALSCALE:GREGORIAN
METHOD:PUBLISH
X-ORIGINAL-URL:https://kravin.info
X-WR-CALDESC:Akce na Kravín
REFRESH-INTERVAL;VALUE=DURATION:PT1H
X-Robots-Tag:noindex
X-PUBLISHED-TTL:PT1H
BEGIN:VTIMEZONE
TZID:Europe/Paris
BEGIN:DAYLIGHT
TZOFFSETFROM:+0100
TZOFFSETTO:+0200
TZNAME:CEST
DTSTART:20180325T010000
END:DAYLIGHT
BEGIN:STANDARD
TZOFFSETFROM:+0200
TZOFFSETTO:+0100
TZNAME:CET
DTSTART:20181028T010000
END:STANDARD
BEGIN:DAYLIGHT
TZOFFSETFROM:+0100
TZOFFSETTO:+0200
TZNAME:CEST
DTSTART:20190331T010000
END:DAYLIGHT
BEGIN:STANDARD
TZOFFSETFROM:+0200
TZOFFSETTO:+0100
TZNAME:CET
DTSTART:20191027T010000
END:STANDARD
BEGIN:DAYLIGHT
TZOFFSETFROM:+0100
TZOFFSETTO:+0200
TZNAME:CEST
DTSTART:20200329T010000
END:DAYLIGHT
BEGIN:STANDARD
TZOFFSETFROM:+0200
TZOFFSETTO:+0100
TZNAME:CET
DTSTART:20201025T010000
END:STANDARD
END:VTIMEZONE
BEGIN:VEVENT
DTSTART;TZID=Europe/Paris:20190525T210000
DTEND;TZID=Europe/Paris:20190525T210000
DTSTAMP:20260426T062131
CREATED:20190506T075944Z
LAST-MODIFIED:20190506T075949Z
UID:5751-1558818000-1558818000@kravin.info
SUMMARY:98.Oldies párty - Elán revival
DESCRIPTION:
URL:https://kravin.info/udalost/98-oldies-party-elan-revival/
LOCATION:Areál klubu\, Hlučínská 680\, Dolní Benešov\, Moravskoslezký kraj\, 74722\, Česká republika
ATTACH;FMTTYPE=image/jpeg:https://kravin.info/wp-content/uploads/2017/10/old98_02.jpg
ORGANIZER;CN="Klub Krav%C3%ADn":MAILTO:kravin@kravin.info
END:VEVENT
END:VCALENDAR