BEGIN:VCALENDAR
VERSION:2.0
PRODID:-//Kravín - ECPv6.15.20//NONSGML v1.0//EN
CALSCALE:GREGORIAN
METHOD:PUBLISH
X-ORIGINAL-URL:https://kravin.info
X-WR-CALDESC:Akce na Kravín
REFRESH-INTERVAL;VALUE=DURATION:PT1H
X-Robots-Tag:noindex
X-PUBLISHED-TTL:PT1H
BEGIN:VTIMEZONE
TZID:Europe/Paris
BEGIN:DAYLIGHT
TZOFFSETFROM:+0100
TZOFFSETTO:+0200
TZNAME:CEST
DTSTART:20180325T010000
END:DAYLIGHT
BEGIN:STANDARD
TZOFFSETFROM:+0200
TZOFFSETTO:+0100
TZNAME:CET
DTSTART:20181028T010000
END:STANDARD
BEGIN:DAYLIGHT
TZOFFSETFROM:+0100
TZOFFSETTO:+0200
TZNAME:CEST
DTSTART:20190331T010000
END:DAYLIGHT
BEGIN:STANDARD
TZOFFSETFROM:+0200
TZOFFSETTO:+0100
TZNAME:CET
DTSTART:20191027T010000
END:STANDARD
BEGIN:DAYLIGHT
TZOFFSETFROM:+0100
TZOFFSETTO:+0200
TZNAME:CEST
DTSTART:20200329T010000
END:DAYLIGHT
BEGIN:STANDARD
TZOFFSETFROM:+0200
TZOFFSETTO:+0100
TZNAME:CET
DTSTART:20201025T010000
END:STANDARD
END:VTIMEZONE
BEGIN:VEVENT
DTSTART;TZID=Europe/Paris:20191005T210000
DTEND;TZID=Europe/Paris:20191005T210000
DTSTAMP:20260425T214238
CREATED:20190924T061903Z
LAST-MODIFIED:20190924T061908Z
UID:6393-1570309200-1570309200@kravin.info
SUMMARY:20.Narozeniny Kravína
DESCRIPTION:
URL:https://kravin.info/udalost/20-narozeniny-kravina/
LOCATION:Areál klubu\, Hlučínská 680\, Dolní Benešov\, Moravskoslezký kraj\, 74722\, Česká republika
ATTACH;FMTTYPE=image/jpeg:https://kravin.info/wp-content/uploads/2019/09/20narozky_2019_04.jpeg
ORGANIZER;CN="Klub Krav%C3%ADn":MAILTO:kravin@kravin.info
END:VEVENT
BEGIN:VEVENT
DTSTART;TZID=Europe/Paris:20191012T210000
DTEND;TZID=Europe/Paris:20191012T210000
DTSTAMP:20260425T214238
CREATED:20190924T121140Z
LAST-MODIFIED:20190924T121140Z
UID:6405-1570914000-1570914000@kravin.info
SUMMARY:Extáze Live
DESCRIPTION:
URL:https://kravin.info/udalost/extaze-live-6/
LOCATION:Areál klubu\, Hlučínská 680\, Dolní Benešov\, Moravskoslezký kraj\, 74722\, Česká republika
ATTACH;FMTTYPE=image/jpeg:https://kravin.info/wp-content/uploads/2019/09/extaze2019_07_02.jpeg
ORGANIZER;CN="Klub Krav%C3%ADn":MAILTO:kravin@kravin.info
END:VEVENT
BEGIN:VEVENT
DTSTART;TZID=Europe/Paris:20191019T210000
DTEND;TZID=Europe/Paris:20191019T210000
DTSTAMP:20260425T214238
CREATED:20191001T081625Z
LAST-MODIFIED:20191001T081633Z
UID:6429-1571518800-1571518800@kravin.info
SUMMARY:DRAJF
DESCRIPTION:
URL:https://kravin.info/udalost/drajf-3/
LOCATION:Areál klubu\, Hlučínská 680\, Dolní Benešov\, Moravskoslezký kraj\, 74722\, Česká republika
ATTACH;FMTTYPE=image/jpeg:https://kravin.info/wp-content/uploads/2019/10/drajf_kravin-19-10.jpg
ORGANIZER;CN="Klub Krav%C3%ADn":MAILTO:kravin@kravin.info
END:VEVENT
BEGIN:VEVENT
DTSTART;TZID=Europe/Paris:20191026T210000
DTEND;TZID=Europe/Paris:20191026T210000
DTSTAMP:20260425T214238
CREATED:20191010T082534Z
LAST-MODIFIED:20191010T082542Z
UID:6441-1572123600-1572123600@kravin.info
SUMMARY:101.Oldies party
DESCRIPTION:
URL:https://kravin.info/udalost/101-oldies-party/
LOCATION:Areál klubu\, Hlučínská 680\, Dolní Benešov\, Moravskoslezký kraj\, 74722\, Česká republika
ATTACH;FMTTYPE=image/jpeg:https://kravin.info/wp-content/uploads/2019/10/old101_03.jpg
ORGANIZER;CN="Klub Krav%C3%ADn":MAILTO:kravin@kravin.info
END:VEVENT
END:VCALENDAR