BEGIN:VCALENDAR
VERSION:2.0
PRODID:-//Kravín - ECPv6.15.20//NONSGML v1.0//EN
CALSCALE:GREGORIAN
METHOD:PUBLISH
X-WR-CALNAME:Kravín
X-ORIGINAL-URL:https://kravin.info
X-WR-CALDESC:Akce na Kravín
REFRESH-INTERVAL;VALUE=DURATION:PT1H
X-Robots-Tag:noindex
X-PUBLISHED-TTL:PT1H
BEGIN:VTIMEZONE
TZID:Europe/Paris
BEGIN:DAYLIGHT
TZOFFSETFROM:+0100
TZOFFSETTO:+0200
TZNAME:CEST
DTSTART:20180325T010000
END:DAYLIGHT
BEGIN:STANDARD
TZOFFSETFROM:+0200
TZOFFSETTO:+0100
TZNAME:CET
DTSTART:20181028T010000
END:STANDARD
BEGIN:DAYLIGHT
TZOFFSETFROM:+0100
TZOFFSETTO:+0200
TZNAME:CEST
DTSTART:20190331T010000
END:DAYLIGHT
BEGIN:STANDARD
TZOFFSETFROM:+0200
TZOFFSETTO:+0100
TZNAME:CET
DTSTART:20191027T010000
END:STANDARD
BEGIN:DAYLIGHT
TZOFFSETFROM:+0100
TZOFFSETTO:+0200
TZNAME:CEST
DTSTART:20200329T010000
END:DAYLIGHT
BEGIN:STANDARD
TZOFFSETFROM:+0200
TZOFFSETTO:+0100
TZNAME:CET
DTSTART:20201025T010000
END:STANDARD
END:VTIMEZONE
BEGIN:VEVENT
DTSTART;TZID=Europe/Paris:20190928T210000
DTEND;TZID=Europe/Paris:20190928T210000
DTSTAMP:20260426T044418
CREATED:20190914T074716Z
LAST-MODIFIED:20190914T074724Z
UID:6381-1569704400-1569704400@kravin.info
SUMMARY:100.Oldies party
DESCRIPTION:
URL:https://kravin.info/udalost/100-oldies-party/
LOCATION:Areál klubu\, Hlučínská 680\, Dolní Benešov\, Moravskoslezký kraj\, 74722\, Česká republika
ATTACH;FMTTYPE=image/jpeg:https://kravin.info/wp-content/uploads/2019/09/old100_01.jpg
ORGANIZER;CN="Klub Krav%C3%ADn":MAILTO:kravin@kravin.info
END:VEVENT
BEGIN:VEVENT
DTSTART;TZID=Europe/Paris:20190921T210000
DTEND;TZID=Europe/Paris:20190921T210000
DTSTAMP:20260426T044418
CREATED:20190903T093222Z
LAST-MODIFIED:20190903T093235Z
UID:6361-1569099600-1569099600@kravin.info
SUMMARY:Music Mix
DESCRIPTION:
URL:https://kravin.info/udalost/music-mix-2/
LOCATION:Areál klubu\, Hlučínská 680\, Dolní Benešov\, Moravskoslezký kraj\, 74722\, Česká republika
ATTACH;FMTTYPE=image/jpeg:https://kravin.info/wp-content/uploads/2019/09/mix_2019_01_03b.jpg
ORGANIZER;CN="Klub Krav%C3%ADn":MAILTO:kravin@kravin.info
END:VEVENT
BEGIN:VEVENT
DTSTART;TZID=Europe/Paris:20190914T210000
DTEND;TZID=Europe/Paris:20190914T210000
DTSTAMP:20260426T044418
CREATED:20190903T093347Z
LAST-MODIFIED:20190903T093353Z
UID:6367-1568494800-1568494800@kravin.info
SUMMARY:Dance4ever
DESCRIPTION:
URL:https://kravin.info/udalost/dance4ever-4/
LOCATION:Areál klubu\, Hlučínská 680\, Dolní Benešov\, Moravskoslezký kraj\, 74722\, Česká republika
ATTACH;FMTTYPE=image/jpeg:https://kravin.info/wp-content/uploads/2019/08/dance10_2019_04.jpg
ORGANIZER;CN="Klub Krav%C3%ADn":MAILTO:kravin@kravin.info
END:VEVENT
BEGIN:VEVENT
DTSTART;TZID=Europe/Paris:20190907T210000
DTEND;TZID=Europe/Paris:20190907T210000
DTSTAMP:20260426T044418
CREATED:20190828T120819Z
LAST-MODIFIED:20190828T120819Z
UID:6335-1567890000-1567890000@kravin.info
SUMMARY:Grand Opening
DESCRIPTION:
URL:https://kravin.info/udalost/grand-opening/
LOCATION:Areál klubu\, Hlučínská 680\, Dolní Benešov\, Moravskoslezký kraj\, 74722\, Česká republika
ATTACH;FMTTYPE=image/jpeg:https://kravin.info/wp-content/uploads/2019/08/open2019_03.jpg
ORGANIZER;CN="Klub Krav%C3%ADn":MAILTO:kravin@kravin.info
END:VEVENT
BEGIN:VEVENT
DTSTART;TZID=Europe/Paris:20190720T210000
DTEND;TZID=Europe/Paris:20190720T210000
DTSTAMP:20260426T044418
CREATED:20190616T160731Z
LAST-MODIFIED:20190616T160735Z
UID:5839-1563656400-1563656400@kravin.info
SUMMARY:HELAX Open Air
DESCRIPTION:
URL:https://kravin.info/udalost/helax-open-air-3/
LOCATION:Areál klubu\, Hlučínská 680\, Dolní Benešov\, Moravskoslezký kraj\, 74722\, Česká republika
ATTACH;FMTTYPE=image/jpeg:https://kravin.info/wp-content/uploads/2019/06/image1.jpeg
ORGANIZER;CN="Klub Krav%C3%ADn":MAILTO:kravin@kravin.info
END:VEVENT
BEGIN:VEVENT
DTSTART;TZID=Europe/Paris:20190713T210000
DTEND;TZID=Europe/Paris:20190713T210000
DTSTAMP:20260426T044418
CREATED:20190610T134337Z
LAST-MODIFIED:20190610T134343Z
UID:5823-1563051600-1563051600@kravin.info
SUMMARY:Noční karneval
DESCRIPTION:
URL:https://kravin.info/udalost/nocni-karneval-2/
LOCATION:Areál klubu\, Hlučínská 680\, Dolní Benešov\, Moravskoslezký kraj\, 74722\, Česká republika
ATTACH;FMTTYPE=image/jpeg:https://kravin.info/wp-content/uploads/2019/06/karneval_2_2019_03.jpg
ORGANIZER;CN="Klub Krav%C3%ADn":MAILTO:kravin@kravin.info
END:VEVENT
BEGIN:VEVENT
DTSTART;TZID=Europe/Paris:20190629T210000
DTEND;TZID=Europe/Paris:20190629T210000
DTSTAMP:20260426T044418
CREATED:20190610T134031Z
LAST-MODIFIED:20190610T134037Z
UID:5819-1561842000-1561842000@kravin.info
SUMMARY:99.Oldies a ABBA a Boney M revival
DESCRIPTION:
URL:https://kravin.info/udalost/99-oldies-a-abba-a-boney-m-revival/
LOCATION:Areál klubu\, Hlučínská 680\, Dolní Benešov\, Moravskoslezký kraj\, 74722\, Česká republika
ATTACH;FMTTYPE=image/jpeg:https://kravin.info/wp-content/uploads/2017/10/old99_02.jpg
ORGANIZER;CN="Klub Krav%C3%ADn":MAILTO:kravin@kravin.info
END:VEVENT
BEGIN:VEVENT
DTSTART;TZID=Europe/Paris:20190622T210000
DTEND;TZID=Europe/Paris:20190622T210000
DTSTAMP:20260426T044418
CREATED:20190604T060403Z
LAST-MODIFIED:20190604T060416Z
UID:5797-1561237200-1561237200@kravin.info
SUMMARY:Warm Up B4L
DESCRIPTION:
URL:https://kravin.info/udalost/warm-up-b4l/
LOCATION:Areál klubu\, Hlučínská 680\, Dolní Benešov\, Moravskoslezký kraj\, 74722\, Česká republika
ATTACH;FMTTYPE=image/png:https://kravin.info/wp-content/uploads/2017/10/06_22_kravÃ­n.png
ORGANIZER;CN="Klub Krav%C3%ADn":MAILTO:kravin@kravin.info
END:VEVENT
BEGIN:VEVENT
DTSTART;TZID=Europe/Paris:20190615T210000
DTEND;TZID=Europe/Paris:20190615T210000
DTSTAMP:20260426T044418
CREATED:20190604T060314Z
LAST-MODIFIED:20190604T060321Z
UID:5793-1560632400-1560632400@kravin.info
SUMMARY:Noční Karneval
DESCRIPTION:
URL:https://kravin.info/udalost/nocni-karneval/
LOCATION:Areál klubu\, Hlučínská 680\, Dolní Benešov\, Moravskoslezký kraj\, 74722\, Česká republika
ATTACH;FMTTYPE=image/jpeg:https://kravin.info/wp-content/uploads/2017/10/karneval_2019_04.jpg
ORGANIZER;CN="Klub Krav%C3%ADn":MAILTO:kravin@kravin.info
END:VEVENT
BEGIN:VEVENT
DTSTART;TZID=Europe/Paris:20190607T150000
DTEND;TZID=Europe/Paris:20190608T170000
DTSTAMP:20260426T044418
CREATED:20190530T093010Z
LAST-MODIFIED:20190604T135407Z
UID:5775-1559919600-1560013200@kravin.info
SUMMARY:MOTOKRAVÍN
DESCRIPTION:
URL:https://kravin.info/udalost/motokravin/
LOCATION:Areál klubu\, Hlučínská 680\, Dolní Benešov\, Moravskoslezký kraj\, 74722\, Česká republika
ATTACH;FMTTYPE=image/jpeg:https://kravin.info/wp-content/uploads/2019/05/program_A4_05.jpg
ORGANIZER;CN="Klub Krav%C3%ADn":MAILTO:kravin@kravin.info
END:VEVENT
BEGIN:VEVENT
DTSTART;TZID=Europe/Paris:20190601T210000
DTEND;TZID=Europe/Paris:20190601T210000
DTSTAMP:20260426T044418
CREATED:20190516T085410Z
LAST-MODIFIED:20190531T061141Z
UID:5757-1559422800-1559422800@kravin.info
SUMMARY:Rádio Čas Oldies párty
DESCRIPTION:
URL:https://kravin.info/udalost/radio-cas-oldies-party/
LOCATION:Areál klubu\, Hlučínská 680\, Dolní Benešov\, Moravskoslezký kraj\, 74722\, Česká republika
ATTACH;FMTTYPE=image/jpeg:https://kravin.info/wp-content/uploads/2019/05/A3Å-klubal.jpg
ORGANIZER;CN="Klub Krav%C3%ADn":MAILTO:kravin@kravin.info
END:VEVENT
BEGIN:VEVENT
DTSTART;TZID=Europe/Paris:20190525T210000
DTEND;TZID=Europe/Paris:20190525T210000
DTSTAMP:20260426T044418
CREATED:20190506T075944Z
LAST-MODIFIED:20190506T075949Z
UID:5751-1558818000-1558818000@kravin.info
SUMMARY:98.Oldies párty - Elán revival
DESCRIPTION:
URL:https://kravin.info/udalost/98-oldies-party-elan-revival/
LOCATION:Areál klubu\, Hlučínská 680\, Dolní Benešov\, Moravskoslezký kraj\, 74722\, Česká republika
ATTACH;FMTTYPE=image/jpeg:https://kravin.info/wp-content/uploads/2017/10/old98_02.jpg
ORGANIZER;CN="Klub Krav%C3%ADn":MAILTO:kravin@kravin.info
END:VEVENT
BEGIN:VEVENT
DTSTART;TZID=Europe/Paris:20190524T200000
DTEND;TZID=Europe/Paris:20190524T200000
DTSTAMP:20260426T044418
CREATED:20190227T102424Z
LAST-MODIFIED:20190227T103209Z
UID:5609-1558728000-1558728000@kravin.info
SUMMARY:Ortel a Ondrej Ďurica
DESCRIPTION:Určitě se máte na co těšit\, jelikož tento dvojkoncert by měl být jediný na Severní Moravě. Ortel už znáte dobře a Ondreje Ďuricu někteří taky. Pro ty co ho neznají i pro ty co ho znají přidávám odkyzy na dvě nové písně. \nhttps://youtu.be/_M2p-aD0_G4 \nhttps://youtu.be/LLYMFU74pvo \nPředprodej vstupenek bude jako vždy v Ostravské hospodě Parlament\, v Pivnici u Supa v Dolním Benešově\, v Kravíně v době konání jakékoliv akce a taky jsme zavedli předprodej na webu v sekci vstupenky. Cena je v předprodeji 450\,- Kč (18euro) a na místě v den konání akce 500\,- Kč (20euro). \nTěšíme se na hojnou návštěvu.
URL:https://kravin.info/udalost/ortel-a-ondrej-durica-2/
LOCATION:Areál klubu\, Hlučínská 680\, Dolní Benešov\, Moravskoslezký kraj\, 74722\, Česká republika
ATTACH;FMTTYPE=image/jpeg:https://kravin.info/wp-content/uploads/2019/02/ortel_velky_02_2019_www.jpg
ORGANIZER;CN="Klub Krav%C3%ADn":MAILTO:kravin@kravin.info
END:VEVENT
BEGIN:VEVENT
DTSTART;TZID=Europe/Paris:20190518T210000
DTEND;TZID=Europe/Paris:20190518T210000
DTSTAMP:20260426T044418
CREATED:20190506T075826Z
LAST-MODIFIED:20190506T075832Z
UID:5747-1558213200-1558213200@kravin.info
SUMMARY:piCZoviny
DESCRIPTION:
URL:https://kravin.info/udalost/piczoviny/
LOCATION:Areál klubu\, Hlučínská 680\, Dolní Benešov\, Moravskoslezký kraj\, 74722\, Česká republika
ATTACH;FMTTYPE=image/jpeg:https://kravin.info/wp-content/uploads/2017/10/picoviny5_2019_03www.jpg
ORGANIZER;CN="Klub Krav%C3%ADn":MAILTO:kravin@kravin.info
END:VEVENT
BEGIN:VEVENT
DTSTART;TZID=Europe/Paris:20190511T210000
DTEND;TZID=Europe/Paris:20190511T210000
DTSTAMP:20260426T044418
CREATED:20190429T074456Z
LAST-MODIFIED:20190429T074500Z
UID:5737-1557608400-1557608400@kravin.info
SUMMARY:Captain Morgan party
DESCRIPTION:
URL:https://kravin.info/udalost/captain-morgan-party-3/
LOCATION:Areál klubu\, Hlučínská 680\, Dolní Benešov\, Moravskoslezký kraj\, 74722\, Česká republika
ATTACH;FMTTYPE=image/jpeg:https://kravin.info/wp-content/uploads/2017/10/morgan2019_04.jpg
ORGANIZER;CN="Klub Krav%C3%ADn":MAILTO:kravin@kravin.info
END:VEVENT
BEGIN:VEVENT
DTSTART;TZID=Europe/Paris:20190504T210000
DTEND;TZID=Europe/Paris:20190504T210000
DTSTAMP:20260426T044418
CREATED:20190429T074402Z
LAST-MODIFIED:20190429T074409Z
UID:5733-1557003600-1557003600@kravin.info
SUMMARY:NFIX & Candice
DESCRIPTION:
URL:https://kravin.info/udalost/nfix-candice-3/
LOCATION:Areál klubu\, Hlučínská 680\, Dolní Benešov\, Moravskoslezký kraj\, 74722\, Česká republika
ATTACH;FMTTYPE=image/jpeg:https://kravin.info/wp-content/uploads/2017/10/KravÃ­n-A2.jpg
ORGANIZER;CN="Klub Krav%C3%ADn":MAILTO:kravin@kravin.info
END:VEVENT
BEGIN:VEVENT
DTSTART;TZID=Europe/Paris:20190427T210000
DTEND;TZID=Europe/Paris:20190427T210000
DTSTAMP:20260426T044418
CREATED:20190415T131431Z
LAST-MODIFIED:20190415T131438Z
UID:5717-1556398800-1556398800@kravin.info
SUMMARY:97. Oldies párty
DESCRIPTION:
URL:https://kravin.info/udalost/97-oldies-party/
LOCATION:Areál klubu\, Hlučínská 680\, Dolní Benešov\, Moravskoslezký kraj\, 74722\, Česká republika
ATTACH;FMTTYPE=image/jpeg:https://kravin.info/wp-content/uploads/2019/04/old97_02.jpg
ORGANIZER;CN="Klub Krav%C3%ADn":MAILTO:kravin@kravin.info
END:VEVENT
BEGIN:VEVENT
DTSTART;TZID=Europe/Paris:20190421T210000
DTEND;TZID=Europe/Paris:20190421T210000
DTSTAMP:20260426T044418
CREATED:20190408T130528Z
LAST-MODIFIED:20190408T130532Z
UID:5705-1555880400-1555880400@kravin.info
SUMMARY:Velikonoční párty
DESCRIPTION:
URL:https://kravin.info/udalost/velikonocni-party/
LOCATION:Areál klubu\, Hlučínská 680\, Dolní Benešov\, Moravskoslezký kraj\, 74722\, Česká republika
ATTACH;FMTTYPE=image/jpeg:https://kravin.info/wp-content/uploads/2019/04/velikonoce2019_02.jpg
ORGANIZER;CN="Klub Krav%C3%ADn":MAILTO:kravin@kravin.info
END:VEVENT
BEGIN:VEVENT
DTSTART;TZID=Europe/Paris:20190420T210000
DTEND;TZID=Europe/Paris:20190420T210000
DTSTAMP:20260426T044418
CREATED:20190408T130423Z
LAST-MODIFIED:20190408T130432Z
UID:5701-1555794000-1555794000@kravin.info
SUMMARY:SILESIA Night Mix
DESCRIPTION:
URL:https://kravin.info/udalost/silesia-night-mix/
LOCATION:Areál klubu\, Hlučínská 680\, Dolní Benešov\, Moravskoslezký kraj\, 74722\, Česká republika
ATTACH;FMTTYPE=image/jpeg:https://kravin.info/wp-content/uploads/2017/10/silesiamix2019_06_05.jpg
ORGANIZER;CN="Klub Krav%C3%ADn":MAILTO:kravin@kravin.info
END:VEVENT
BEGIN:VEVENT
DTSTART;TZID=Europe/Paris:20190418T180000
DTEND;TZID=Europe/Paris:20190418T180000
DTSTAMP:20260426T044418
CREATED:20190402T050957Z
LAST-MODIFIED:20190402T051005Z
UID:5691-1555610400-1555610400@kravin.info
SUMMARY:Prajzské rockové velikonoce
DESCRIPTION:
URL:https://kravin.info/udalost/prajzske-rockove-velikonoce/
LOCATION:Areál klubu\, Hlučínská 680\, Dolní Benešov\, Moravskoslezký kraj\, 74722\, Česká republika
ATTACH;FMTTYPE=image/jpeg:https://kravin.info/wp-content/uploads/2017/10/PrajzsjeRockoveJaro2019.jpg
ORGANIZER;CN="Klub Krav%C3%ADn":MAILTO:kravin@kravin.info
END:VEVENT
BEGIN:VEVENT
DTSTART;TZID=Europe/Paris:20190413T210000
DTEND;TZID=Europe/Paris:20190413T210000
DTSTAMP:20260426T044418
CREATED:20190325T081911Z
LAST-MODIFIED:20190325T081919Z
UID:5677-1555189200-1555189200@kravin.info
SUMMARY:Drajf v Kravíně
DESCRIPTION:
URL:https://kravin.info/udalost/drajf-v-kravine/
LOCATION:Areál klubu\, Hlučínská 680\, Dolní Benešov\, Moravskoslezký kraj\, 74722\, Česká republika
ATTACH;FMTTYPE=image/jpeg:https://kravin.info/wp-content/uploads/2017/10/drajf.jpg
ORGANIZER;CN="Klub Krav%C3%ADn":MAILTO:kravin@kravin.info
END:VEVENT
BEGIN:VEVENT
DTSTART;TZID=Europe/Paris:20190406T210000
DTEND;TZID=Europe/Paris:20190406T210000
DTSTAMP:20260426T044418
CREATED:20190318T142104Z
LAST-MODIFIED:20190318T142118Z
UID:5661-1554584400-1554584400@kravin.info
SUMMARY:Rezident Birthday
DESCRIPTION:
URL:https://kravin.info/udalost/rezident-birthday/
LOCATION:Areál klubu\, Hlučínská 680\, Dolní Benešov\, Moravskoslezký kraj\, 74722\, Česká republika
ATTACH;FMTTYPE=image/jpeg:https://kravin.info/wp-content/uploads/2019/03/rezident2019_06_04.jpg
ORGANIZER;CN="Klub Krav%C3%ADn":MAILTO:kravin@kravin.info
END:VEVENT
BEGIN:VEVENT
DTSTART;TZID=Europe/Paris:20190330T210000
DTEND;TZID=Europe/Paris:20190330T210000
DTSTAMP:20260426T044418
CREATED:20190311T092839Z
LAST-MODIFIED:20190311T092907Z
UID:5647-1553979600-1553979600@kravin.info
SUMMARY:96.Oldies párty
DESCRIPTION:
URL:https://kravin.info/udalost/96-oldies-party/
LOCATION:Areál klubu\, Hlučínská 680\, Dolní Benešov\, Moravskoslezký kraj\, 74722\, Česká republika
ATTACH;FMTTYPE=image/jpeg:https://kravin.info/wp-content/uploads/2019/03/old96_03.jpg
ORGANIZER;CN="Klub Krav%C3%ADn":MAILTO:kravin@kravin.info
END:VEVENT
BEGIN:VEVENT
DTSTART;TZID=Europe/Paris:20190323T210000
DTEND;TZID=Europe/Paris:20190323T210000
DTSTAMP:20260426T044418
CREATED:20190306T075654Z
LAST-MODIFIED:20190314T093546Z
UID:5627-1553374800-1553374800@kravin.info
SUMMARY:Dance párty
DESCRIPTION:
URL:https://kravin.info/udalost/dance-party/
LOCATION:Areál klubu\, Hlučínská 680\, Dolní Benešov\, Moravskoslezký kraj\, 74722\, Česká republika
ATTACH;FMTTYPE=image/jpeg:https://kravin.info/wp-content/uploads/2019/03/dance2019_08.jpg
ORGANIZER;CN="Klub Krav%C3%ADn":MAILTO:kravin@kravin.info
END:VEVENT
BEGIN:VEVENT
DTSTART;TZID=Europe/Paris:20190316T210000
DTEND;TZID=Europe/Paris:20190316T210000
DTSTAMP:20260426T044418
CREATED:20190225T125126Z
LAST-MODIFIED:20190225T125141Z
UID:5599-1552770000-1552770000@kravin.info
SUMMARY:Josefovská
DESCRIPTION:
URL:https://kravin.info/udalost/josefovska/
LOCATION:Areál klubu\, Hlučínská 680\, Dolní Benešov\, Moravskoslezký kraj\, 74722\, Česká republika
ATTACH;FMTTYPE=image/jpeg:https://kravin.info/wp-content/uploads/2019/02/josefovska2019_06_05.jpg
ORGANIZER;CN="Klub Krav%C3%ADn":MAILTO:kravin@kravin.info
END:VEVENT
BEGIN:VEVENT
DTSTART;TZID=Europe/Paris:20190309T210000
DTEND;TZID=Europe/Paris:20190309T210000
DTSTAMP:20260426T044418
CREATED:20190218T112435Z
LAST-MODIFIED:20190218T112446Z
UID:5569-1552165200-1552165200@kravin.info
SUMMARY:Extáze live
DESCRIPTION:
URL:https://kravin.info/udalost/extaze-live-5/
LOCATION:Areál klubu\, Hlučínská 680\, Dolní Benešov\, Moravskoslezký kraj\, 74722\, Česká republika
ATTACH;FMTTYPE=image/jpeg:https://kravin.info/wp-content/uploads/2017/10/extaze2019_06_03www.jpg
ORGANIZER;CN="Klub Krav%C3%ADn":MAILTO:kravin@kravin.info
END:VEVENT
BEGIN:VEVENT
DTSTART;TZID=Europe/Paris:20190302T210000
DTEND;TZID=Europe/Paris:20190302T210000
DTSTAMP:20260426T044418
CREATED:20190211T092415Z
LAST-MODIFIED:20190220T113258Z
UID:5535-1551560400-1551560400@kravin.info
SUMMARY:4. narozeniny v novém
DESCRIPTION:
URL:https://kravin.info/udalost/4-narozeniny-v-novem/
LOCATION:Areál klubu\, Hlučínská 680\, Dolní Benešov\, Moravskoslezký kraj\, 74722\, Česká republika
ATTACH;FMTTYPE=image/jpeg:https://kravin.info/wp-content/uploads/2019/02/narozeniny4_04.jpg
ORGANIZER;CN="Klub Krav%C3%ADn":MAILTO:kravin@kravin.info
END:VEVENT
BEGIN:VEVENT
DTSTART;TZID=Europe/Paris:20190223T210000
DTEND;TZID=Europe/Paris:20190223T210000
DTSTAMP:20260426T044418
CREATED:20190205T060012Z
LAST-MODIFIED:20190205T060144Z
UID:5507-1550955600-1550955600@kravin.info
SUMMARY:95.Oldies párty - maškarní
DESCRIPTION:
URL:https://kravin.info/udalost/95-oldies-party-maskarni/
LOCATION:Areál klubu\, Hlučínská 680\, Dolní Benešov\, Moravskoslezký kraj\, 74722\, Česká republika
ATTACH;FMTTYPE=image/jpeg:https://kravin.info/wp-content/uploads/2017/10/old95_01.jpg
ORGANIZER;CN="Klub Krav%C3%ADn":MAILTO:kravin@kravin.info
END:VEVENT
BEGIN:VEVENT
DTSTART;TZID=Europe/Paris:20190216T210000
DTEND;TZID=Europe/Paris:20190216T210000
DTSTAMP:20260426T044418
CREATED:20190128T130726Z
LAST-MODIFIED:20190128T130736Z
UID:5491-1550350800-1550350800@kravin.info
SUMMARY:Valentýnská párty
DESCRIPTION:
URL:https://kravin.info/udalost/valentynska-party-2/
LOCATION:Areál klubu\, Hlučínská 680\, Dolní Benešov\, Moravskoslezký kraj\, 74722\, Česká republika
ATTACH;FMTTYPE=image/jpeg:https://kravin.info/wp-content/uploads/2019/01/valentyn2019_02.jpg
ORGANIZER;CN="Klub Krav%C3%ADn":MAILTO:kravin@kravin.info
END:VEVENT
BEGIN:VEVENT
DTSTART;TZID=Europe/Paris:20190209T210000
DTEND;TZID=Europe/Paris:20190209T210000
DTSTAMP:20260426T044418
CREATED:20190123T061957Z
LAST-MODIFIED:20190123T062007Z
UID:5409-1549746000-1549746000@kravin.info
SUMMARY:Michael Burian
DESCRIPTION:
URL:https://kravin.info/udalost/michael-burian/
LOCATION:Areál klubu\, Hlučínská 680\, Dolní Benešov\, Moravskoslezký kraj\, 74722\, Česká republika
ATTACH;FMTTYPE=image/jpeg:https://kravin.info/wp-content/uploads/2017/10/burian2019_01.jpg
ORGANIZER;CN="Klub Krav%C3%ADn":MAILTO:kravin@kravin.info
END:VEVENT
END:VCALENDAR