BEGIN:VCALENDAR
VERSION:2.0
PRODID:-//Kravín - ECPv6.15.20//NONSGML v1.0//EN
CALSCALE:GREGORIAN
METHOD:PUBLISH
X-WR-CALNAME:Kravín
X-ORIGINAL-URL:https://kravin.info
X-WR-CALDESC:Akce na Kravín
REFRESH-INTERVAL;VALUE=DURATION:PT1H
X-Robots-Tag:noindex
X-PUBLISHED-TTL:PT1H
BEGIN:VTIMEZONE
TZID:Europe/Paris
BEGIN:DAYLIGHT
TZOFFSETFROM:+0100
TZOFFSETTO:+0200
TZNAME:CEST
DTSTART:20180325T010000
END:DAYLIGHT
BEGIN:STANDARD
TZOFFSETFROM:+0200
TZOFFSETTO:+0100
TZNAME:CET
DTSTART:20181028T010000
END:STANDARD
BEGIN:DAYLIGHT
TZOFFSETFROM:+0100
TZOFFSETTO:+0200
TZNAME:CEST
DTSTART:20190331T010000
END:DAYLIGHT
BEGIN:STANDARD
TZOFFSETFROM:+0200
TZOFFSETTO:+0100
TZNAME:CET
DTSTART:20191027T010000
END:STANDARD
BEGIN:DAYLIGHT
TZOFFSETFROM:+0100
TZOFFSETTO:+0200
TZNAME:CEST
DTSTART:20200329T010000
END:DAYLIGHT
BEGIN:STANDARD
TZOFFSETFROM:+0200
TZOFFSETTO:+0100
TZNAME:CET
DTSTART:20201025T010000
END:STANDARD
BEGIN:DAYLIGHT
TZOFFSETFROM:+0100
TZOFFSETTO:+0200
TZNAME:CEST
DTSTART:20210328T010000
END:DAYLIGHT
BEGIN:STANDARD
TZOFFSETFROM:+0200
TZOFFSETTO:+0100
TZNAME:CET
DTSTART:20211031T010000
END:STANDARD
END:VTIMEZONE
BEGIN:VEVENT
DTSTART;TZID=Europe/Paris:20191226T210000
DTEND;TZID=Europe/Paris:20191226T210000
DTSTAMP:20260426T044208
CREATED:20191216T113017Z
LAST-MODIFIED:20191216T113028Z
UID:6747-1577394000-1577394000@kravin.info
SUMMARY:Štěpánská párty
DESCRIPTION:
URL:https://kravin.info/udalost/stepanska-party-2/
LOCATION:Areál klubu\, Hlučínská 680\, Dolní Benešov\, Moravskoslezký kraj\, 74722\, Česká republika
ATTACH;FMTTYPE=image/jpeg:https://kravin.info/wp-content/uploads/2019/12/stepan2019_02.jpg
ORGANIZER;CN="Klub Krav%C3%ADn":MAILTO:kravin@kravin.info
END:VEVENT
BEGIN:VEVENT
DTSTART;TZID=Europe/Paris:20191228T090000
DTEND;TZID=Europe/Paris:20191228T190000
DTSTAMP:20260426T044208
CREATED:20191128T105651Z
LAST-MODIFIED:20191128T105924Z
UID:6695-1577523600-1577559600@kravin.info
SUMMARY:Turnaj v el.šipkách
DESCRIPTION:Už v pořadí čtvrtý KRAVÍN OPEN předsilvestrovský turnaj v elektronických šipkách\, kde budete soutěžit jak o peněžní ceny\, tak hodnotné sponzorské dárky. Těšíme se na Vaší účast.
URL:https://kravin.info/udalost/turnaj-v-el-sipkach/
LOCATION:Areál klubu\, Hlučínská 680\, Dolní Benešov\, Moravskoslezký kraj\, 74722\, Česká republika
ATTACH;FMTTYPE=image/jpeg:https://kravin.info/wp-content/uploads/2019/11/sipky2019_spad3px_05www.jpg
ORGANIZER;CN="Klub Krav%C3%ADn":MAILTO:kravin@kravin.info
END:VEVENT
BEGIN:VEVENT
DTSTART;TZID=Europe/Paris:20191228T210000
DTEND;TZID=Europe/Paris:20191228T210000
DTSTAMP:20260426T044208
CREATED:20191223T112920Z
LAST-MODIFIED:20191223T112920Z
UID:6787-1577566800-1577566800@kravin.info
SUMMARY:103. Oldies party s rádiem Čas
DESCRIPTION:
URL:https://kravin.info/udalost/103-oldies-party-s-radiem-cas/
LOCATION:Areál klubu\, Hlučínská 680\, Dolní Benešov\, Moravskoslezký kraj\, 74722\, Česká republika
ATTACH;FMTTYPE=image/jpeg:https://kravin.info/wp-content/uploads/2019/12/old_103_04.jpg
ORGANIZER;CN="Klub Krav%C3%ADn":MAILTO:kravin@kravin.info
END:VEVENT
BEGIN:VEVENT
DTSTART;TZID=Europe/Paris:20200104T210000
DTEND;TZID=Europe/Paris:20200104T210000
DTSTAMP:20260426T044208
CREATED:20191226T151331Z
LAST-MODIFIED:20191226T151337Z
UID:6799-1578171600-1578171600@kravin.info
SUMMARY:Warm Up 2020
DESCRIPTION:
URL:https://kravin.info/udalost/warm-up-2020/
LOCATION:Areál klubu\, Hlučínská 680\, Dolní Benešov\, Moravskoslezký kraj\, 74722\, Česká republika
ATTACH;FMTTYPE=image/jpeg:https://kravin.info/wp-content/uploads/2019/12/warmup2020_03.jpg
ORGANIZER;CN="Klub Krav%C3%ADn":MAILTO:kravin@kravin.info
END:VEVENT
BEGIN:VEVENT
DTSTART;TZID=Europe/Paris:20200111T210000
DTEND;TZID=Europe/Paris:20200111T210000
DTSTAMP:20260426T044208
CREATED:20191230T143819Z
LAST-MODIFIED:20191230T143827Z
UID:6809-1578776400-1578776400@kravin.info
SUMMARY:Millenium Hit party
DESCRIPTION:
URL:https://kravin.info/udalost/millenium-hit-party-2/
LOCATION:Areál klubu\, Hlučínská 680\, Dolní Benešov\, Moravskoslezký kraj\, 74722\, Česká republika
ATTACH;FMTTYPE=image/jpeg:https://kravin.info/wp-content/uploads/2019/12/millenium2020_02.jpg
ORGANIZER;CN="Klub Krav%C3%ADn":MAILTO:kravin@kravin.info
END:VEVENT
BEGIN:VEVENT
DTSTART;TZID=Europe/Paris:20200118T210000
DTEND;TZID=Europe/Paris:20200118T210000
DTSTAMP:20260426T044208
CREATED:20200105T145722Z
LAST-MODIFIED:20200105T145728Z
UID:6833-1579381200-1579381200@kravin.info
SUMMARY:Captain Morgan párty
DESCRIPTION:
URL:https://kravin.info/udalost/captain-morgan-party-4/
LOCATION:Areál klubu\, Hlučínská 680\, Dolní Benešov\, Moravskoslezký kraj\, 74722\, Česká republika
ATTACH;FMTTYPE=image/jpeg:https://kravin.info/wp-content/uploads/2020/01/morgan_auditor_2020_05.jpeg
ORGANIZER;CN="Klub Krav%C3%ADn":MAILTO:kravin@kravin.info
END:VEVENT
BEGIN:VEVENT
DTSTART;TZID=Europe/Paris:20200125T210000
DTEND;TZID=Europe/Paris:20200125T210000
DTSTAMP:20260426T044208
CREATED:20200110T083052Z
LAST-MODIFIED:20200110T083104Z
UID:6897-1579986000-1579986000@kravin.info
SUMMARY:104.Oldies párty - Ples
DESCRIPTION:
URL:https://kravin.info/udalost/104-oldies-party-ples/
LOCATION:Areál klubu\, Hlučínská 680\, Dolní Benešov\, Moravskoslezký kraj\, 74722\, Česká republika
ATTACH;FMTTYPE=image/jpeg:https://kravin.info/wp-content/uploads/2020/01/old104_ples_04.jpg
ORGANIZER;CN="Klub Krav%C3%ADn":MAILTO:kravin@kravin.info
END:VEVENT
BEGIN:VEVENT
DTSTART;TZID=Europe/Paris:20200201T210000
DTEND;TZID=Europe/Paris:20200201T210000
DTSTAMP:20260426T044208
CREATED:20200113T092604Z
LAST-MODIFIED:20200113T092604Z
UID:6943-1580590800-1580590800@kravin.info
SUMMARY:Pepino párty
DESCRIPTION:
URL:https://kravin.info/udalost/pepino-party/
LOCATION:Areál klubu\, Hlučínská 680\, Dolní Benešov\, Moravskoslezký kraj\, 74722\, Česká republika
ATTACH;FMTTYPE=image/jpeg:https://kravin.info/wp-content/uploads/2020/01/Kravín-1.2..jpeg
ORGANIZER;CN="Klub Krav%C3%ADn":MAILTO:kravin@kravin.info
END:VEVENT
BEGIN:VEVENT
DTSTART;TZID=Europe/Paris:20200208T210000
DTEND;TZID=Europe/Paris:20200208T210000
DTSTAMP:20260426T044208
CREATED:20200122T082303Z
LAST-MODIFIED:20200122T082310Z
UID:7199-1581195600-1581195600@kravin.info
SUMMARY:Millenium Hit párty
DESCRIPTION:
URL:https://kravin.info/udalost/millenium-hit-party-3/
LOCATION:Areál klubu\, Hlučínská 680\, Dolní Benešov\, Moravskoslezký kraj\, 74722\, Česká republika
ATTACH;FMTTYPE=image/jpeg:https://kravin.info/wp-content/uploads/2020/01/millenium_02_2020_02.jpg
ORGANIZER;CN="Klub Krav%C3%ADn":MAILTO:kravin@kravin.info
END:VEVENT
BEGIN:VEVENT
DTSTART;TZID=Europe/Paris:20200215T210000
DTEND;TZID=Europe/Paris:20200215T210000
DTSTAMP:20260426T044208
CREATED:20200122T082416Z
LAST-MODIFIED:20200122T082423Z
UID:7205-1581800400-1581800400@kravin.info
SUMMARY:Valentýnská párty
DESCRIPTION:
URL:https://kravin.info/udalost/valentynska-party-3/
LOCATION:Areál klubu\, Hlučínská 680\, Dolní Benešov\, Moravskoslezký kraj\, 74722\, Česká republika
ATTACH;FMTTYPE=image/jpeg:https://kravin.info/wp-content/uploads/2020/01/valentyn_02_2020_02.jpg
ORGANIZER;CN="Klub Krav%C3%ADn":MAILTO:kravin@kravin.info
END:VEVENT
BEGIN:VEVENT
DTSTART;TZID=Europe/Paris:20200222T210000
DTEND;TZID=Europe/Paris:20200222T210000
DTSTAMP:20260426T044208
CREATED:20200122T082124Z
LAST-MODIFIED:20200122T082124Z
UID:7193-1582405200-1582405200@kravin.info
SUMMARY:WarmUP Kravín víc než kravín
DESCRIPTION:
URL:https://kravin.info/udalost/warmup-kravin-vic-nez-kravin/
LOCATION:Areál klubu\, Hlučínská 680\, Dolní Benešov\, Moravskoslezký kraj\, 74722\, Česká republika
ATTACH;FMTTYPE=image/jpeg:https://kravin.info/wp-content/uploads/2020/01/kravin_kravin_www.jpg
ORGANIZER;CN="Klub Krav%C3%ADn":MAILTO:kravin@kravin.info
END:VEVENT
BEGIN:VEVENT
DTSTART;TZID=Europe/Paris:20200229T210000
DTEND;TZID=Europe/Paris:20200229T210000
DTSTAMP:20260426T044208
CREATED:20200122T082524Z
LAST-MODIFIED:20200122T082533Z
UID:7211-1583010000-1583010000@kravin.info
SUMMARY:105.Oldies párty
DESCRIPTION:
URL:https://kravin.info/udalost/105-oldies-party/
LOCATION:Areál klubu\, Hlučínská 680\, Dolní Benešov\, Moravskoslezký kraj\, 74722\, Česká republika
ATTACH;FMTTYPE=image/jpeg:https://kravin.info/wp-content/uploads/2020/01/old105_02.jpg
ORGANIZER;CN="Klub Krav%C3%ADn":MAILTO:kravin@kravin.info
END:VEVENT
BEGIN:VEVENT
DTSTART;TZID=Europe/Paris:20200307T210000
DTEND;TZID=Europe/Paris:20200307T210000
DTSTAMP:20260426T044208
CREATED:20200217T132921Z
LAST-MODIFIED:20200217T132928Z
UID:7477-1583614800-1583614800@kravin.info
SUMMARY:5.Narozeniny Kravína v novém
DESCRIPTION:
URL:https://kravin.info/udalost/5-narozeniny-kravina-v-novem/
LOCATION:Areál klubu\, Hlučínská 680\, Dolní Benešov\, Moravskoslezký kraj\, 74722\, Česká republika
ATTACH;FMTTYPE=image/jpeg:https://kravin.info/wp-content/uploads/2020/02/5narozeniny_03.jpg
ORGANIZER;CN="Klub Krav%C3%ADn":MAILTO:kravin@kravin.info
END:VEVENT
BEGIN:VEVENT
DTSTART;TZID=Europe/Paris:20200314T210000
DTEND;TZID=Europe/Paris:20200314T210000
DTSTAMP:20260426T044208
CREATED:20200224T105218Z
LAST-MODIFIED:20200312T104052Z
UID:7525-1584219600-1584219600@kravin.info
SUMMARY:Akce zrušena - prevence
DESCRIPTION:
URL:https://kravin.info/udalost/millenium-hit-party-4/
LOCATION:Areál klubu\, Hlučínská 680\, Dolní Benešov\, Moravskoslezký kraj\, 74722\, Česká republika
ATTACH;FMTTYPE=image/jpeg:https://kravin.info/wp-content/uploads/2020/03/logo_ciste_preruseni2020_02a.jpg
ORGANIZER;CN="Klub Krav%C3%ADn":MAILTO:kravin@kravin.info
END:VEVENT
BEGIN:VEVENT
DTSTART;TZID=Europe/Paris:20200321T210000
DTEND;TZID=Europe/Paris:20200321T210000
DTSTAMP:20260426T044208
CREATED:20200301T130836Z
LAST-MODIFIED:20200317T090045Z
UID:7731-1584824400-1584824400@kravin.info
SUMMARY:Akce zrušena prevence
DESCRIPTION:
URL:https://kravin.info/udalost/josefovska-2/
LOCATION:Areál klubu\, Hlučínská 680\, Dolní Benešov\, Moravskoslezký kraj\, 74722\, Česká republika
ATTACH;FMTTYPE=image/jpeg:https://kravin.info/wp-content/uploads/2020/03/logo_ciste_preruseni2020_02a.jpg
ORGANIZER;CN="Klub Krav%C3%ADn":MAILTO:kravin@kravin.info
END:VEVENT
BEGIN:VEVENT
DTSTART;TZID=Europe/Paris:20200328T210000
DTEND;TZID=Europe/Paris:20200328T210000
DTSTAMP:20260426T044208
CREATED:20200301T130955Z
LAST-MODIFIED:20200323T092311Z
UID:7737-1585429200-1585429200@kravin.info
SUMMARY:Akce zrušena prevence
DESCRIPTION:
URL:https://kravin.info/udalost/106-oldies-party/
LOCATION:Areál klubu\, Hlučínská 680\, Dolní Benešov\, Moravskoslezký kraj\, 74722\, Česká republika
ATTACH;FMTTYPE=image/jpeg:https://kravin.info/wp-content/uploads/2020/03/prevence-párty.jpg
ORGANIZER;CN="Klub Krav%C3%ADn":MAILTO:kravin@kravin.info
END:VEVENT
BEGIN:VEVENT
DTSTART;TZID=Europe/Paris:20200404T210000
DTEND;TZID=Europe/Paris:20200404T210000
DTSTAMP:20260426T044208
CREATED:20200330T085424Z
LAST-MODIFIED:20200330T085431Z
UID:7919-1586034000-1586034000@kravin.info
SUMMARY:Prevence - akce zrušena
DESCRIPTION:
URL:https://kravin.info/udalost/prevence-akce-zrusena/
LOCATION:Areál klubu\, Hlučínská 680\, Dolní Benešov\, Moravskoslezký kraj\, 74722\, Česká republika
ATTACH;FMTTYPE=image/jpeg:https://kravin.info/wp-content/uploads/2020/03/logo_ciste_preruseni2020_02a.jpg
ORGANIZER;CN="Klub Krav%C3%ADn":MAILTO:kravin@kravin.info
END:VEVENT
BEGIN:VEVENT
DTSTART;TZID=Europe/Paris:20200411T200000
DTEND;TZID=Europe/Paris:20200411T200000
DTSTAMP:20260426T044208
CREATED:20200207T112646Z
LAST-MODIFIED:20200409T055343Z
UID:7343-1586635200-1586635200@kravin.info
SUMMARY:Velikonoční ROCK Kravín - zrušeno prevence
DESCRIPTION:Takže bude kapela Dorien a podrobnosti dodám a speciální host Citron revival. \nDolnobenešovský Candle Sauce je hard rocková kapela\, která se vylíhla v Dolním Benešově v roce 2018\, byť její zrod sahá za účasti pouze kytaristy a bubeníka již do roku 2017. Rozhodla se dělat muziku po svém. Vlastní hudba\, vlastní české texty\, drsné rify a melodické pasáže jsou portrétem této kapely na poli. Naslouchat jejím textům je někdy jako vidět svůj vlastní život. Vzhledem k hudbě\, která tak všechny 4 členy kapely naplňuje a mají rádi klasický český pokrm svíčkovou na smetaně\, došlo tak i k pojmenování této bandy na CANDLE SAUCE. Kapela má po svém\, dá se říci krátkém působení\, za sebou mimo jiné i vydání své debutové placky „Útěk z chaosu“ v roce 2019. \nDolnobenešovská kapela Fajer vznikla po seznámení a následném setkání pánů P. Sroky\, J. Sroky\, D. Muczky st. a M. Trávníčka se začala v květnu 2015 formovat sestava zatím bezejmenné kapely. Hledal se ještě kytarista a klávesák. Kytaru brzo obsadil D. Muczka ml.\, ale za klávesy se nikoho nepodařilo posadit. Na výzvu se sice přihlásili dva\, ale dohoda se nezdařila. Jednoho dne jsme dostali kontakt na J. Nováka a po dohodě nastoupil jako poslední člen kapely. V září je kapela kompletní a začíná zkoušet. Repertoár je ryze autorský. Pro kapelu skládá hlavně M. Travníček (hudba + texty)\, ale taky P. Sroka (hudba + texty)\, J. Novák (hudba + texty) a D. Muczka st. (hudba + texty). Co se týče konečných aranžmá skladeb\, v tom je kapela samostatná. Po roce a půl je nazkoušeno devět skladeb a kapela s názvem „FAJER“ se přesouvá do nahrávacího studia Pat – Ben v Kravařích\, aby nahrála a vydala svou prvotinu ve formě CD s přiléhavým názvem „Vzplanutí“. Kapela FAJER zahajuje v roce 2017 oficiálně svou činnost. Teď už je jen na Vás – na fanoušcích\, jestli se tento počin povedl. \nTěšíme se na Vaší hojnou účast
URL:https://kravin.info/udalost/velikonocni-rock-kravin/
LOCATION:Areál klubu\, Hlučínská 680\, Dolní Benešov\, Moravskoslezký kraj\, 74722\, Česká republika
ATTACH;FMTTYPE=image/jpeg:https://kravin.info/wp-content/uploads/2020/02/rockkravin_spad3px_08a.jpg
ORGANIZER;CN="Klub Krav%C3%ADn":MAILTO:kravin@kravin.info
END:VEVENT
BEGIN:VEVENT
DTSTART;TZID=Europe/Paris:20200509T200000
DTEND;TZID=Europe/Paris:20200509T200000
DTSTAMP:20260426T044208
CREATED:20200302T150026Z
LAST-MODIFIED:20200429T121354Z
UID:7787-1589054400-1589054400@kravin.info
SUMMARY:Koncert ke Dni vítězství 9.5.- ZRUŠENO
DESCRIPTION:REZERVOVAT VSTUEPNKY ON-LINE – RYCHLEJŠÍ ODBAVENÍ – NIŽŠÍ CENA \nAKCE ZRUŠENA – KOKOTVIR \nOrtel           vydal další CD  s názvem DIKTÁTOR které přijede odehrát do Kravína. Samozřejmě zahraje i starší hity a dle vyjádření samotné kapely – ..dosud hrajeme veřejně\, mluvíme a zpíváme o tom co nás bolí co nás štve a co bychom chtěli ve společnosti změnit…nezávisle proti všem a proti všemu…cestou trnitou\, plnou odpůrců\, policejního monitoringu a lživých kampaní…přesto s čistou myslí a snad spravedlivým úsudkem\, přeji všem příjemný poslech. \nKapela Obereg         z Pohořelic na Brněnsku je folk-metalová formace\, v jejíž hudbě se odráží prastaré melodie a moudrosti našich slovanských předků\, skloubené s moderním zvukem elektrických kytar.  Kombinace folkových melodií\, metalu a čistého zpěvu má obrovský potenciál oslovit široké spektrum lidí\, kteří by se k pohanství a příbuzným tématům jinými cestami dostávali jen velmi obtížně. Znalosti\, mravnost a odpovědnost za své činy jsou základním kamenem lepší budoucnosti a konec davo-elitářského biblického systému.                 Se zvyšující se mírou chápání vznikla i motivace k vytvoření kapely\, která bude ctít tyto ideje a přispívat tak k pozvednutí psychiky ze stavu bio-robot na stav Člověk.\nPetr Lüftner     je  PÍSNIČKÁŘ doprovázející se po většinu písní na akordeon\, kterým se snaží vyvracet předsudky o tom\, že tahací harmonika patří pouze do hospody. Protestsongy\, písničky romantického charakteru či k pobavení\, to je hlavní gró jeho tvorby nasáklé atmosférou severních Čech\, pakliže se zrovna nevěnuje hudbě\, prohání se nejspíš právě po silnicích na kole. \nNa tuto akci máme rozjednané ještě další věci\, o kterých Vás budeme včas informovat. \nPředprodej vstupenek je na www.kravin.info\, sekce vstupenky od 4.3.2020\,  nebo v Pivnici U Supa v Dolním Benešově\, Hájecká č.238\, nebo přímo v Kravíně v době konání akcí\,i mimo ně na tel.602 742 588\, od 9.3.2020. Vstupné v předprodeji je 450\,- Kč a na místě v den konání akce 500\,- Kč. \nTěšíme se na Vaši hojnou účast.
URL:https://kravin.info/udalost/koncert-ke-dni-vitezstvi-9-5/
LOCATION:Areál klubu\, Hlučínská 680\, Dolní Benešov\, Moravskoslezký kraj\, 74722\, Česká republika
ATTACH;FMTTYPE=image/jpeg:https://kravin.info/wp-content/uploads/2020/03/den-vitezstvi_spad_05www.jpg
ORGANIZER;CN="Klub Krav%C3%ADn":MAILTO:kravin@kravin.info
END:VEVENT
BEGIN:VEVENT
DTSTART;TZID=Europe/Paris:20200530T210000
DTEND;TZID=Europe/Paris:20200530T210000
DTSTAMP:20260426T044208
CREATED:20200526T104100Z
LAST-MODIFIED:20200526T104131Z
UID:8171-1590872400-1590872400@kravin.info
SUMMARY:106.Oldies karneval
DESCRIPTION:
URL:https://kravin.info/udalost/106-oldies-karneval/
LOCATION:Areál klubu\, Hlučínská 680\, Dolní Benešov\, Moravskoslezký kraj\, 74722\, Česká republika
ATTACH;FMTTYPE=image/jpeg:https://kravin.info/wp-content/uploads/2020/05/old106a_03.jpeg
ORGANIZER;CN="Klub Krav%C3%ADn":MAILTO:kravin@kravin.info
END:VEVENT
BEGIN:VEVENT
DTSTART;TZID=Europe/Paris:20200605T120000
DTEND;TZID=Europe/Paris:20200606T233000
DTSTAMP:20260426T044208
CREATED:20200526T104406Z
LAST-MODIFIED:20200526T104406Z
UID:8177-1591358400-1591486200@kravin.info
SUMMARY:2.Motokravín
DESCRIPTION:
URL:https://kravin.info/udalost/2-motokravin/
LOCATION:Areál klubu\, Hlučínská 680\, Dolní Benešov\, Moravskoslezký kraj\, 74722\, Česká republika
ATTACH;FMTTYPE=image/jpeg:https://kravin.info/wp-content/uploads/2020/05/mapa_moto_obestrany_08c.jpg
ORGANIZER;CN="Klub Krav%C3%ADn":MAILTO:kravin@kravin.info
END:VEVENT
BEGIN:VEVENT
DTSTART;TZID=Europe/Paris:20200613T210000
DTEND;TZID=Europe/Paris:20200613T210000
DTSTAMP:20260426T044208
CREATED:20200608T064905Z
LAST-MODIFIED:20200608T064905Z
UID:8203-1592082000-1592082000@kravin.info
SUMMARY:Fu*K COVID19 párty
DESCRIPTION:
URL:https://kravin.info/udalost/fuk-covid19-party/
LOCATION:Areál klubu\, Hlučínská 680\, Dolní Benešov\, Moravskoslezký kraj\, 74722\, Česká republika
ATTACH;FMTTYPE=image/jpeg:https://kravin.info/wp-content/uploads/2020/06/covid_party_03.jpeg
ORGANIZER;CN="Klub Krav%C3%ADn":MAILTO:kravin@kravin.info
END:VEVENT
BEGIN:VEVENT
DTSTART;TZID=Europe/Paris:20200620T210000
DTEND;TZID=Europe/Paris:20200620T210000
DTSTAMP:20260426T044208
CREATED:20200608T065139Z
LAST-MODIFIED:20200608T065158Z
UID:8209-1592686800-1592686800@kravin.info
SUMMARY:Dance4ever
DESCRIPTION:
URL:https://kravin.info/udalost/dance4ever-5/
LOCATION:Areál klubu\, Hlučínská 680\, Dolní Benešov\, Moravskoslezký kraj\, 74722\, Česká republika
ATTACH;FMTTYPE=image/jpeg:https://kravin.info/wp-content/uploads/2020/06/dance_2020_02.jpg
ORGANIZER;CN="Klub Krav%C3%ADn":MAILTO:kravin@kravin.info
END:VEVENT
BEGIN:VEVENT
DTSTART;TZID=Europe/Paris:20200627T210000
DTEND;TZID=Europe/Paris:20200627T210000
DTSTAMP:20260426T044208
CREATED:20200615T130352Z
LAST-MODIFIED:20200615T130352Z
UID:8359-1593291600-1593291600@kravin.info
SUMMARY:Helax Rio Carnival
DESCRIPTION:
URL:https://kravin.info/udalost/helax-rio-carnival/
LOCATION:Areál klubu\, Hlučínská 680\, Dolní Benešov\, Moravskoslezký kraj\, 74722\, Česká republika
ATTACH;FMTTYPE=image/jpeg:https://kravin.info/wp-content/uploads/2020/06/OA-Helax2020-plakát-A3-Dolní-Benešov-27_6_2020.jpg
ORGANIZER;CN="Klub Krav%C3%ADn":MAILTO:kravin@kravin.info
END:VEVENT
BEGIN:VEVENT
DTSTART;TZID=Europe/Paris:20200704T210000
DTEND;TZID=Europe/Paris:20200704T210000
DTSTAMP:20260426T044208
CREATED:20200610T120145Z
LAST-MODIFIED:20200610T120145Z
UID:8229-1593896400-1593896400@kravin.info
SUMMARY:Music Mix
DESCRIPTION:
URL:https://kravin.info/udalost/music-mix-3/
LOCATION:Areál klubu\, Hlučínská 680\, Dolní Benešov\, Moravskoslezký kraj\, 74722\, Česká republika
ATTACH;FMTTYPE=image/jpeg:https://kravin.info/wp-content/uploads/2020/06/mix_2020_02_03.jpeg
ORGANIZER;CN="Klub Krav%C3%ADn":MAILTO:kravin@kravin.info
END:VEVENT
BEGIN:VEVENT
DTSTART;TZID=Europe/Paris:20200705T210000
DTEND;TZID=Europe/Paris:20200705T210000
DTSTAMP:20260426T044208
CREATED:20200609T131201Z
LAST-MODIFIED:20200627T070902Z
UID:8223-1593982800-1593982800@kravin.info
SUMMARY:RETROMÁNIE
DESCRIPTION:Mušketýři na deskách – to je parta legendárních DJ  na Ostravsku a Karvinsku\, kteří hrávali už v dobách\, kdy prezident Husák měl dvojky dioptrie. Na jejich diskotékách vyrůstali další nadějní „pouštěči“\, až to došlo kam to došlo. \nProto se v různých alternacích dohodla skupinka zkušených DJ´s\, že vyjedou ven a dají vzpomenout legraci\, zábavě\, starým hitům i neotřelým tanců. Uslyšíte co jste v životě neviděli a uvidíte\, co jste v životě neslyšeli. 60-70-80-90 léta – tj to pravé\, tj retro kategorie\, o kterou tady jde. DJ Tiesta\, Beyonce\, a jiné současné umělce\, pěvce a recitátory necháme osudu a možná „dojížděči“ akce – tj náš Planchet:-D. Ottawan\, Harpo\, Sarragozza band\, ale i Dr.Alban\, Samatha Fox či Falco\, Bee Gees nebo ABBA\, Fun Factory či dokonce Mr.President- na to a řadu dalších hitů se můžete těšit 5.7.- kdy moravské věrozvěsty Cyrouše a Metúda přijedou podpořit Mušketýři na deskách.
URL:https://kravin.info/udalost/retromanie/
LOCATION:Areál klubu\, Hlučínská 680\, Dolní Benešov\, Moravskoslezký kraj\, 74722\, Česká republika
ATTACH;FMTTYPE=image/jpeg:https://kravin.info/wp-content/uploads/2020/06/RETROMÁNIE_MUŠKETÝŘI_aktualiz_2020_A4_EL-verze.jpg
ORGANIZER;CN="Klub Krav%C3%ADn":MAILTO:kravin@kravin.info
END:VEVENT
BEGIN:VEVENT
DTSTART;TZID=Europe/Paris:20200711T210000
DTEND;TZID=Europe/Paris:20200711T210000
DTSTAMP:20260426T044208
CREATED:20200619T103306Z
LAST-MODIFIED:20200710T064644Z
UID:8379-1594501200-1594501200@kravin.info
SUMMARY:ROXTAR a Adolfeen v Kravíně
DESCRIPTION:
URL:https://kravin.info/udalost/roxtar-a-adolfeen-v-kravine/
LOCATION:Kravín\, Hlučínská 680\, Dolní Benešov\, Moravskoslezký kraj\, 74722\, Česká republika
ATTACH;FMTTYPE=image/jpeg:https://kravin.info/wp-content/uploads/2020/06/roxtar_2020_03.jpg
END:VEVENT
BEGIN:VEVENT
DTSTART;TZID=Europe/Paris:20200718T210000
DTEND;TZID=Europe/Paris:20200718T210000
DTSTAMP:20260426T044208
CREATED:20200627T070407Z
LAST-MODIFIED:20200627T070407Z
UID:8391-1595106000-1595106000@kravin.info
SUMMARY:KRAVÍN víc než kravín
DESCRIPTION:
URL:https://kravin.info/udalost/kravin-vic-nez-kravin/
LOCATION:Areál klubu\, Hlučínská 680\, Dolní Benešov\, Moravskoslezký kraj\, 74722\, Česká republika
ATTACH;FMTTYPE=image/jpeg:https://kravin.info/wp-content/uploads/2020/06/kravin_kravin_tisk_spad_leto2020_02www.jpg
ORGANIZER;CN="Klub Krav%C3%ADn":MAILTO:kravin@kravin.info
END:VEVENT
BEGIN:VEVENT
DTSTART;TZID=Europe/Paris:20200725T210000
DTEND;TZID=Europe/Paris:20200725T210000
DTSTAMP:20260426T044208
CREATED:20200707T103901Z
LAST-MODIFIED:20200710T063150Z
UID:8409-1595710800-1595710800@kravin.info
SUMMARY:107.Oldies party
DESCRIPTION:
URL:https://kravin.info/udalost/107-oldies-party/
LOCATION:Kravín\, Hlučínská 680\, Dolní Benešov\, Moravskoslezký kraj\, 74722\, Česká republika
ATTACH;FMTTYPE=image/jpeg:https://kravin.info/wp-content/uploads/2020/07/old107_nova_01.jpg
END:VEVENT
BEGIN:VEVENT
DTSTART;TZID=Europe/Paris:20200801T210000
DTEND;TZID=Europe/Paris:20200801T210000
DTSTAMP:20260426T044208
CREATED:20200707T104903Z
LAST-MODIFIED:20200707T104903Z
UID:8435-1596315600-1596315600@kravin.info
SUMMARY:Soukromá akce
DESCRIPTION:
URL:https://kravin.info/udalost/soukroma-akce-7/
LOCATION:Areál klubu\, Hlučínská 680\, Dolní Benešov\, Moravskoslezký kraj\, 74722\, Česká republika
ATTACH;FMTTYPE=image/jpeg:https://kravin.info/wp-content/uploads/2018/06/zavřeno.jpg
ORGANIZER;CN="Klub Krav%C3%ADn":MAILTO:kravin@kravin.info
END:VEVENT
END:VCALENDAR