BEGIN:VCALENDAR
VERSION:2.0
PRODID:-//Kravín - ECPv6.15.20//NONSGML v1.0//EN
CALSCALE:GREGORIAN
METHOD:PUBLISH
X-WR-CALNAME:Kravín
X-ORIGINAL-URL:https://kravin.info
X-WR-CALDESC:Akce na Kravín
REFRESH-INTERVAL;VALUE=DURATION:PT1H
X-Robots-Tag:noindex
X-PUBLISHED-TTL:PT1H
BEGIN:VTIMEZONE
TZID:Europe/Paris
BEGIN:DAYLIGHT
TZOFFSETFROM:+0100
TZOFFSETTO:+0200
TZNAME:CEST
DTSTART:20170326T010000
END:DAYLIGHT
BEGIN:STANDARD
TZOFFSETFROM:+0200
TZOFFSETTO:+0100
TZNAME:CET
DTSTART:20171029T010000
END:STANDARD
BEGIN:DAYLIGHT
TZOFFSETFROM:+0100
TZOFFSETTO:+0200
TZNAME:CEST
DTSTART:20180325T010000
END:DAYLIGHT
BEGIN:STANDARD
TZOFFSETFROM:+0200
TZOFFSETTO:+0100
TZNAME:CET
DTSTART:20181028T010000
END:STANDARD
BEGIN:DAYLIGHT
TZOFFSETFROM:+0100
TZOFFSETTO:+0200
TZNAME:CEST
DTSTART:20190331T010000
END:DAYLIGHT
BEGIN:STANDARD
TZOFFSETFROM:+0200
TZOFFSETTO:+0100
TZNAME:CET
DTSTART:20191027T010000
END:STANDARD
END:VTIMEZONE
BEGIN:VEVENT
DTSTART;TZID=Europe/Paris:20181215T210000
DTEND;TZID=Europe/Paris:20181215T210000
DTSTAMP:20260426T063032
CREATED:20181126T141624Z
LAST-MODIFIED:20181126T141649Z
UID:5131-1544907600-1544907600@kravin.info
SUMMARY:Explosive Dance Night
DESCRIPTION:
URL:https://kravin.info/udalost/explosive-dance-night-2/
LOCATION:Areál klubu\, Hlučínská 680\, Dolní Benešov\, Moravskoslezký kraj\, 74722\, Česká republika
ATTACH;FMTTYPE=image/jpeg:https://kravin.info/wp-content/uploads/2018/11/explosive2018_01www.jpg
ORGANIZER;CN="Klub Krav%C3%ADn":MAILTO:kravin@kravin.info
END:VEVENT
BEGIN:VEVENT
DTSTART;TZID=Europe/Paris:20181208T210000
DTEND;TZID=Europe/Paris:20181208T210000
DTSTAMP:20260426T063032
CREATED:20181126T141247Z
LAST-MODIFIED:20181126T141310Z
UID:5127-1544302800-1544302800@kravin.info
SUMMARY:DRAJF
DESCRIPTION:
URL:https://kravin.info/udalost/drajf-2/
LOCATION:Areál klubu\, Hlučínská 680\, Dolní Benešov\, Moravskoslezký kraj\, 74722\, Česká republika
ATTACH;FMTTYPE=image/jpeg:https://kravin.info/wp-content/uploads/2017/10/drajf_kravin-8-12.jpg
ORGANIZER;CN="Klub Krav%C3%ADn":MAILTO:kravin@kravin.info
END:VEVENT
BEGIN:VEVENT
DTSTART;TZID=Europe/Paris:20181201T210000
DTEND;TZID=Europe/Paris:20181201T210000
DTSTAMP:20260426T063032
CREATED:20181119T075440Z
LAST-MODIFIED:20181119T075448Z
UID:5109-1543698000-1543698000@kravin.info
SUMMARY:Mikulášská párty
DESCRIPTION:
URL:https://kravin.info/udalost/mikulasska-party-2/
LOCATION:Areál klubu\, Hlučínská 680\, Dolní Benešov\, Moravskoslezký kraj\, 74722\, Česká republika
ATTACH;FMTTYPE=image/jpeg:https://kravin.info/wp-content/uploads/2018/11/mikulas2018_04www.jpg
ORGANIZER;CN="Klub Krav%C3%ADn":MAILTO:kravin@kravin.info
END:VEVENT
BEGIN:VEVENT
DTSTART;TZID=Europe/Paris:20181124T210000
DTEND;TZID=Europe/Paris:20181124T210000
DTSTAMP:20260426T063032
CREATED:20181112T114243Z
LAST-MODIFIED:20181116T172106Z
UID:5027-1543093200-1543093200@kravin.info
SUMMARY:92.Oldies párty
DESCRIPTION:  \n  \n 
URL:https://kravin.info/udalost/92-oldies-party/
LOCATION:Areál klubu\, Hlučínská 680\, Dolní Benešov\, Moravskoslezký kraj\, 74722\, Česká republika
ATTACH;FMTTYPE=image/jpeg:https://kravin.info/wp-content/uploads/2018/11/old92_02.jpg
ORGANIZER;CN="Klub Krav%C3%ADn":MAILTO:kravin@kravin.info
END:VEVENT
BEGIN:VEVENT
DTSTART;TZID=Europe/Paris:20181123T200000
DTEND;TZID=Europe/Paris:20181123T200000
DTSTAMP:20260426T063032
CREATED:20181019T081734Z
LAST-MODIFIED:20181116T173825Z
UID:4889-1543003200-1543003200@kravin.info
SUMMARY:Premier a předkapela Focus rock
DESCRIPTION:Předprodej vstupenek on-line https://kravin.info/vstupenky/
URL:https://kravin.info/udalost/premier-a-predkapela-focus-rock/
LOCATION:Areál klubu\, Hlučínská 680\, Dolní Benešov\, Moravskoslezký kraj\, 74722\, Česká republika
ATTACH;FMTTYPE=image/jpeg:https://kravin.info/wp-content/uploads/2018/10/plakat_www_premier_03.jpg
ORGANIZER;CN="Klub Krav%C3%ADn":MAILTO:kravin@kravin.info
END:VEVENT
BEGIN:VEVENT
DTSTART;TZID=Europe/Paris:20181117T080000
DTEND;TZID=Europe/Paris:20181117T210000
DTSTAMP:20260426T063032
CREATED:20181107T090336Z
LAST-MODIFIED:20181107T090344Z
UID:5015-1542441600-1542488400@kravin.info
SUMMARY:R.Jelinek Dance párty
DESCRIPTION:
URL:https://kravin.info/udalost/r-jelinek-dance-party/
LOCATION:Areál klubu\, Hlučínská 680\, Dolní Benešov\, Moravskoslezký kraj\, 74722\, Česká republika
ATTACH;FMTTYPE=image/jpeg:https://kravin.info/wp-content/uploads/2018/11/jelinek2018_03.jpg
ORGANIZER;CN="Klub Krav%C3%ADn":MAILTO:kravin@kravin.info
END:VEVENT
BEGIN:VEVENT
DTSTART;TZID=Europe/Paris:20181110T210000
DTEND;TZID=Europe/Paris:20181110T210000
DTSTAMP:20260426T063032
CREATED:20181029T103455Z
LAST-MODIFIED:20181029T103501Z
UID:4961-1541883600-1541883600@kravin.info
SUMMARY:Captain Morgan párty
DESCRIPTION:
URL:https://kravin.info/udalost/captain-morgan-party-2/
LOCATION:Areál klubu\, Hlučínská 680\, Dolní Benešov\, Moravskoslezký kraj\, 74722\, Česká republika
ATTACH;FMTTYPE=image/jpeg:https://kravin.info/wp-content/uploads/2018/10/morgan_08_1.jpg
ORGANIZER;CN="Klub Krav%C3%ADn":MAILTO:kravin@kravin.info
END:VEVENT
BEGIN:VEVENT
DTSTART;TZID=Europe/Paris:20181109T193000
DTEND;TZID=Europe/Paris:20181109T193000
DTSTAMP:20260426T063032
CREATED:20181019T080607Z
LAST-MODIFIED:20181019T080618Z
UID:4883-1541791800-1541791800@kravin.info
SUMMARY:Rock\,Rock\,Rock
DESCRIPTION:
URL:https://kravin.info/udalost/rockrockrock/
LOCATION:Areál klubu\, Hlučínská 680\, Dolní Benešov\, Moravskoslezký kraj\, 74722\, Česká republika
ATTACH;FMTTYPE=image/jpeg:https://kravin.info/wp-content/uploads/2018/10/ANO.jpg
ORGANIZER;CN="Klub Krav%C3%ADn":MAILTO:kravin@kravin.info
END:VEVENT
BEGIN:VEVENT
DTSTART;TZID=Europe/Paris:20181103T210000
DTEND;TZID=Europe/Paris:20181103T210000
DTSTAMP:20260426T063032
CREATED:20181022T094502Z
LAST-MODIFIED:20181022T094510Z
UID:4899-1541278800-1541278800@kravin.info
SUMMARY:Dance4ever
DESCRIPTION:
URL:https://kravin.info/udalost/dance4ever-3/
LOCATION:Areál klubu\, Hlučínská 680\, Dolní Benešov\, Moravskoslezký kraj\, 74722\, Česká republika
ATTACH;FMTTYPE=image/jpeg:https://kravin.info/wp-content/uploads/2018/10/dance9_2018_02.jpg
ORGANIZER;CN="Klub Krav%C3%ADn":MAILTO:kravin@kravin.info
END:VEVENT
BEGIN:VEVENT
DTSTART;TZID=Europe/Paris:20181027T210000
DTEND;TZID=Europe/Paris:20181027T210000
DTSTAMP:20260426T063032
CREATED:20181010T054845Z
LAST-MODIFIED:20181010T054852Z
UID:4707-1540674000-1540674000@kravin.info
SUMMARY:91.Oldies párty
DESCRIPTION:
URL:https://kravin.info/udalost/91-oldies-party/
LOCATION:Areál klubu\, Hlučínská 680\, Dolní Benešov\, Moravskoslezký kraj\, 74722\, Česká republika
ATTACH;FMTTYPE=image/jpeg:https://kravin.info/wp-content/uploads/2018/10/old91_02.jpg
ORGANIZER;CN="Klub Krav%C3%ADn":MAILTO:kravin@kravin.info
END:VEVENT
BEGIN:VEVENT
DTSTART;TZID=Europe/Paris:20181026T200000
DTEND;TZID=Europe/Paris:20181026T200000
DTSTAMP:20260426T063032
CREATED:20180918T094306Z
LAST-MODIFIED:20181022T094315Z
UID:4537-1540584000-1540584000@kravin.info
SUMMARY:Ondrej Ďurica Live
DESCRIPTION:
URL:https://kravin.info/udalost/ondrej-durica-live/
LOCATION:Areál klubu\, Hlučínská 680\, Dolní Benešov\, Moravskoslezký kraj\, 74722\, Česká republika
ATTACH;FMTTYPE=image/jpeg:https://kravin.info/wp-content/uploads/2018/09/plakat_www_durica_03.jpg
ORGANIZER;CN="Klub Krav%C3%ADn":MAILTO:kravin@kravin.info
END:VEVENT
BEGIN:VEVENT
DTSTART;TZID=Europe/Paris:20181020T210000
DTEND;TZID=Europe/Paris:20181020T210000
DTSTAMP:20260426T063032
CREATED:20181004T045706Z
LAST-MODIFIED:20181004T045714Z
UID:4655-1540069200-1540069200@kravin.info
SUMMARY:Criminal Noise v Kravíně
DESCRIPTION:
URL:https://kravin.info/udalost/criminal-noise-v-kravine/
LOCATION:Areál klubu\, Hlučínská 680\, Dolní Benešov\, Moravskoslezký kraj\, 74722\, Česká republika
ATTACH;FMTTYPE=image/jpeg:https://kravin.info/wp-content/uploads/2018/10/criminal2018_04.jpg
ORGANIZER;CN="Klub Krav%C3%ADn":MAILTO:kravin@kravin.info
END:VEVENT
BEGIN:VEVENT
DTSTART;TZID=Europe/Paris:20181013T210000
DTEND;TZID=Europe/Paris:20181013T210000
DTSTAMP:20260426T063032
CREATED:20181004T045525Z
LAST-MODIFIED:20181004T045533Z
UID:4649-1539464400-1539464400@kravin.info
SUMMARY:Extáze live
DESCRIPTION:
URL:https://kravin.info/udalost/extaze-live-4/
LOCATION:Areál klubu\, Hlučínská 680\, Dolní Benešov\, Moravskoslezký kraj\, 74722\, Česká republika
ATTACH;FMTTYPE=image/jpeg:https://kravin.info/wp-content/uploads/2018/10/extaze2018_05_02.jpg
ORGANIZER;CN="Klub Krav%C3%ADn":MAILTO:kravin@kravin.info
END:VEVENT
BEGIN:VEVENT
DTSTART;TZID=Europe/Paris:20181006T210000
DTEND;TZID=Europe/Paris:20181006T210000
DTSTAMP:20260426T063032
CREATED:20180925T094653Z
LAST-MODIFIED:20180925T094658Z
UID:4555-1538859600-1538859600@kravin.info
SUMMARY:19. narozeniny Kravína
DESCRIPTION:
URL:https://kravin.info/udalost/19-narozeniny-kravina/
LOCATION:Areál klubu\, Hlučínská 680\, Dolní Benešov\, Moravskoslezký kraj\, 74722\, Česká republika
ATTACH;FMTTYPE=image/jpeg:https://kravin.info/wp-content/uploads/2018/09/19narozky2018_01.jpg
ORGANIZER;CN="Klub Krav%C3%ADn":MAILTO:kravin@kravin.info
END:VEVENT
BEGIN:VEVENT
DTSTART;TZID=Europe/Paris:20180929T210000
DTEND;TZID=Europe/Paris:20180929T210000
DTSTAMP:20260426T063032
CREATED:20180921T092351Z
LAST-MODIFIED:20180921T092351Z
UID:4545-1538254800-1538254800@kravin.info
SUMMARY:90. Oldies party a Michal David revival
DESCRIPTION:
URL:https://kravin.info/udalost/90-oldies-party-a-michal-david-revival/
LOCATION:Areál klubu\, Hlučínská 680\, Dolní Benešov\, Moravskoslezký kraj\, 74722\, Česká republika
ATTACH;FMTTYPE=image/jpeg:https://kravin.info/wp-content/uploads/2018/09/old90_03a.jpg
ORGANIZER;CN="Klub Krav%C3%ADn":MAILTO:kravin@kravin.info
END:VEVENT
BEGIN:VEVENT
DTSTART;TZID=Europe/Paris:20180927T200000
DTEND;TZID=Europe/Paris:20180927T200000
DTSTAMP:20260426T063032
CREATED:20180814T054740Z
LAST-MODIFIED:20180904T050148Z
UID:4479-1538078400-1538078400@kravin.info
SUMMARY:ORTEL
DESCRIPTION:
URL:https://kravin.info/udalost/ortel/
LOCATION:Areál klubu\, Hlučínská 680\, Dolní Benešov\, Moravskoslezký kraj\, 74722\, Česká republika
ATTACH;FMTTYPE=image/jpeg:https://kravin.info/wp-content/uploads/2018/08/plakat_www_ortel_03.jpg
ORGANIZER;CN="Klub Krav%C3%ADn":MAILTO:kravin@kravin.info
END:VEVENT
BEGIN:VEVENT
DTSTART;TZID=Europe/Paris:20180922T210000
DTEND;TZID=Europe/Paris:20180922T210000
DTSTAMP:20260426T063032
CREATED:20180817T131852Z
LAST-MODIFIED:20180817T131904Z
UID:4491-1537650000-1537650000@kravin.info
SUMMARY:Flash Festival On Tour
DESCRIPTION:
URL:https://kravin.info/udalost/flash-festival-on-tour/
LOCATION:Areál klubu\, Hlučínská 680\, Dolní Benešov\, Moravskoslezký kraj\, 74722\, Česká republika
ATTACH;FMTTYPE=image/jpeg:https://kravin.info/wp-content/uploads/2018/08/flash-festival-on-tour-vyska-1.jpg
ORGANIZER;CN="Klub Krav%C3%ADn":MAILTO:kravin@kravin.info
END:VEVENT
BEGIN:VEVENT
DTSTART;TZID=Europe/Paris:20180915T210000
DTEND;TZID=Europe/Paris:20180915T210000
DTSTAMP:20260426T063032
CREATED:20180904T072754Z
LAST-MODIFIED:20180904T072759Z
UID:4521-1537045200-1537045200@kravin.info
SUMMARY:Dance4ever
DESCRIPTION:
URL:https://kravin.info/udalost/dance4ever-2/
LOCATION:Areál klubu\, Hlučínská 680\, Dolní Benešov\, Moravskoslezký kraj\, 74722\, Česká republika
ATTACH;FMTTYPE=image/jpeg:https://kravin.info/wp-content/uploads/2018/09/dance8_2018_02.jpg
ORGANIZER;CN="Klub Krav%C3%ADn":MAILTO:kravin@kravin.info
END:VEVENT
BEGIN:VEVENT
DTSTART;TZID=Europe/Paris:20180908T210000
DTEND;TZID=Europe/Paris:20180908T210000
DTSTAMP:20260426T063032
CREATED:20180818T084658Z
LAST-MODIFIED:20180818T084705Z
UID:4501-1536440400-1536440400@kravin.info
SUMMARY:Opening party
DESCRIPTION:
URL:https://kravin.info/udalost/opening-party/
LOCATION:Areál klubu\, Hlučínská 680\, Dolní Benešov\, Moravskoslezký kraj\, 74722\, Česká republika
ATTACH;FMTTYPE=image/jpeg:https://kravin.info/wp-content/uploads/2018/08/open2018_04.jpg
ORGANIZER;CN="Klub Krav%C3%ADn":MAILTO:kravin@kravin.info
END:VEVENT
BEGIN:VEVENT
DTSTART;TZID=Europe/Paris:20180901T210000
DTEND;TZID=Europe/Paris:20180901T210000
DTSTAMP:20260426T063032
CREATED:20180807T071656Z
LAST-MODIFIED:20180807T071832Z
UID:4455-1535835600-1535835600@kravin.info
SUMMARY:Soukromá akce
DESCRIPTION:
URL:https://kravin.info/udalost/soukroma-akce-3/
LOCATION:Areál klubu\, Hlučínská 680\, Dolní Benešov\, Moravskoslezký kraj\, 74722\, Česká republika
ATTACH;FMTTYPE=image/jpeg:https://kravin.info/wp-content/uploads/2018/06/zavřeno.jpg
ORGANIZER;CN="Klub Krav%C3%ADn":MAILTO:kravin@kravin.info
END:VEVENT
BEGIN:VEVENT
DTSTART;TZID=Europe/Paris:20180825T210000
DTEND;TZID=Europe/Paris:20180825T210000
DTSTAMP:20260426T063032
CREATED:20180810T075554Z
LAST-MODIFIED:20180810T075600Z
UID:4467-1535230800-1535230800@kravin.info
SUMMARY:Helax open air
DESCRIPTION:
URL:https://kravin.info/udalost/helax-open-air-2/
LOCATION:Areál klubu\, Hlučínská 680\, Dolní Benešov\, Moravskoslezký kraj\, 74722\, Česká republika
ATTACH;FMTTYPE=image/jpeg:https://kravin.info/wp-content/uploads/2017/10/image1.jpeg
ORGANIZER;CN="Klub Krav%C3%ADn":MAILTO:kravin@kravin.info
END:VEVENT
BEGIN:VEVENT
DTSTART;TZID=Europe/Paris:20180818T080000
DTEND;TZID=Europe/Paris:20180818T170000
DTSTAMP:20260426T063032
CREATED:20180810T080017Z
LAST-MODIFIED:20180810T080023Z
UID:4475-1534579200-1534611600@kravin.info
SUMMARY:Soukromá akce
DESCRIPTION:
URL:https://kravin.info/udalost/soukroma-akce-5/
LOCATION:Areál klubu\, Hlučínská 680\, Dolní Benešov\, Moravskoslezký kraj\, 74722\, Česká republika
ATTACH;FMTTYPE=image/jpeg:https://kravin.info/wp-content/uploads/2018/06/zavřeno.jpg
ORGANIZER;CN="Klub Krav%C3%ADn":MAILTO:kravin@kravin.info
END:VEVENT
BEGIN:VEVENT
DTSTART;TZID=Europe/Paris:20180811T210000
DTEND;TZID=Europe/Paris:20180811T210000
DTSTAMP:20260426T063032
CREATED:20180810T075931Z
LAST-MODIFIED:20180810T075937Z
UID:4471-1534021200-1534021200@kravin.info
SUMMARY:Soukromá akce
DESCRIPTION:
URL:https://kravin.info/udalost/soukroma-akce-4/
LOCATION:Areál klubu\, Hlučínská 680\, Dolní Benešov\, Moravskoslezký kraj\, 74722\, Česká republika
ATTACH;FMTTYPE=image/jpeg:https://kravin.info/wp-content/uploads/2018/06/zavřeno.jpg
ORGANIZER;CN="Klub Krav%C3%ADn":MAILTO:kravin@kravin.info
END:VEVENT
BEGIN:VEVENT
DTSTART;TZID=Europe/Paris:20180804T210000
DTEND;TZID=Europe/Paris:20180804T210000
DTSTAMP:20260426T063032
CREATED:20180717T052546Z
LAST-MODIFIED:20180717T052558Z
UID:4447-1533416400-1533416400@kravin.info
SUMMARY:Soukromá akce
DESCRIPTION:
URL:https://kravin.info/udalost/soukroma-akce-2/
LOCATION:Areál klubu\, Hlučínská 680\, Dolní Benešov\, Moravskoslezký kraj\, 74722\, Česká republika
ATTACH;FMTTYPE=image/jpeg:https://kravin.info/wp-content/uploads/2018/06/zavřeno.jpg
ORGANIZER;CN="Klub Krav%C3%ADn":MAILTO:kravin@kravin.info
END:VEVENT
BEGIN:VEVENT
DTSTART;TZID=Europe/Paris:20180728T210000
DTEND;TZID=Europe/Paris:20180728T210000
DTSTAMP:20260426T063032
CREATED:20180717T052436Z
LAST-MODIFIED:20180717T052445Z
UID:4443-1532811600-1532811600@kravin.info
SUMMARY:Soukromá akce
DESCRIPTION:
URL:https://kravin.info/udalost/soukroma-akce/
LOCATION:Areál klubu\, Hlučínská 680\, Dolní Benešov\, Moravskoslezký kraj\, 74722\, Česká republika
ATTACH;FMTTYPE=image/jpeg:https://kravin.info/wp-content/uploads/2018/06/zavřeno.jpg
ORGANIZER;CN="Klub Krav%C3%ADn":MAILTO:kravin@kravin.info
END:VEVENT
BEGIN:VEVENT
DTSTART;TZID=Europe/Paris:20180727T190000
DTEND;TZID=Europe/Paris:20180727T190000
DTSTAMP:20260426T063032
CREATED:20180717T052224Z
LAST-MODIFIED:20180717T052232Z
UID:4437-1532718000-1532718000@kravin.info
SUMMARY:Drum N Noize Open Air
DESCRIPTION:
URL:https://kravin.info/udalost/drum-n-noize-open-air/
LOCATION:Areál klubu\, Hlučínská 680\, Dolní Benešov\, Moravskoslezký kraj\, 74722\, Česká republika
ATTACH;FMTTYPE=image/jpeg:https://kravin.info/wp-content/uploads/2018/07/DNN20OA202018.jpg
ORGANIZER;CN="Klub Krav%C3%ADn":MAILTO:kravin@kravin.info
END:VEVENT
BEGIN:VEVENT
DTSTART;TZID=Europe/Paris:20180721T210000
DTEND;TZID=Europe/Paris:20180721T210000
DTSTAMP:20260426T063032
CREATED:20180712T115524Z
LAST-MODIFIED:20180712T115532Z
UID:4427-1532206800-1532206800@kravin.info
SUMMARY:Extáze live
DESCRIPTION:
URL:https://kravin.info/udalost/extaze-live-3/
LOCATION:Areál klubu\, Hlučínská 680\, Dolní Benešov\, Moravskoslezký kraj\, 74722\, Česká republika
ATTACH;FMTTYPE=image/jpeg:https://kravin.info/wp-content/uploads/2018/07/extaze2018_04_02.jpg
ORGANIZER;CN="Klub Krav%C3%ADn":MAILTO:kravin@kravin.info
END:VEVENT
BEGIN:VEVENT
DTSTART;TZID=Europe/Paris:20180714T210000
DTEND;TZID=Europe/Paris:20180714T210000
DTSTAMP:20260426T063032
CREATED:20180626T121942Z
LAST-MODIFIED:20180626T122007Z
UID:4387-1531602000-1531602000@kravin.info
SUMMARY:exxtravaganza EVROPA2
DESCRIPTION:
URL:https://kravin.info/udalost/exxtravaganza-evropa2/
LOCATION:Areál klubu\, Hlučínská 680\, Dolní Benešov\, Moravskoslezký kraj\, 74722\, Česká republika
ATTACH;FMTTYPE=image/png:https://kravin.info/wp-content/uploads/2017/10/17_EXX_facebook-cover_851x315px_KRAVIN_2018.png
ORGANIZER;CN="Klub Krav%C3%ADn":MAILTO:kravin@kravin.info
END:VEVENT
BEGIN:VEVENT
DTSTART;TZID=Europe/Paris:20180707T210000
DTEND;TZID=Europe/Paris:20180707T210000
DTSTAMP:20260426T063032
CREATED:20180626T121826Z
LAST-MODIFIED:20180626T121834Z
UID:4381-1530997200-1530997200@kravin.info
SUMMARY:Soukromá akce - ZAVŘENO
DESCRIPTION:
URL:https://kravin.info/udalost/soukroma-akce-zavreno/
LOCATION:Areál klubu\, Hlučínská 680\, Dolní Benešov\, Moravskoslezký kraj\, 74722\, Česká republika
ATTACH;FMTTYPE=image/jpeg:https://kravin.info/wp-content/uploads/2018/06/zavřeno.jpg
ORGANIZER;CN="Klub Krav%C3%ADn":MAILTO:kravin@kravin.info
END:VEVENT
BEGIN:VEVENT
DTSTART;TZID=Europe/Paris:20180630T210000
DTEND;TZID=Europe/Paris:20180630T210000
DTSTAMP:20260426T063032
CREATED:20180613T050607Z
LAST-MODIFIED:20180613T050614Z
UID:4343-1530392400-1530392400@kravin.info
SUMMARY:89.Oldies párty
DESCRIPTION:
URL:https://kravin.info/udalost/89-oldies-party/
LOCATION:Areál klubu\, Hlučínská 680\, Dolní Benešov\, Moravskoslezký kraj\, 74722\, Česká republika
ATTACH;FMTTYPE=image/jpeg:https://kravin.info/wp-content/uploads/2018/06/old89_02a.jpg
ORGANIZER;CN="Klub Krav%C3%ADn":MAILTO:kravin@kravin.info
END:VEVENT
END:VCALENDAR