BEGIN:VCALENDAR
VERSION:2.0
PRODID:-//Kravín - ECPv6.15.20//NONSGML v1.0//EN
CALSCALE:GREGORIAN
METHOD:PUBLISH
X-WR-CALNAME:Kravín
X-ORIGINAL-URL:https://kravin.info
X-WR-CALDESC:Akce na Kravín
REFRESH-INTERVAL;VALUE=DURATION:PT1H
X-Robots-Tag:noindex
X-PUBLISHED-TTL:PT1H
BEGIN:VTIMEZONE
TZID:Europe/Paris
BEGIN:DAYLIGHT
TZOFFSETFROM:+0100
TZOFFSETTO:+0200
TZNAME:CEST
DTSTART:20190331T010000
END:DAYLIGHT
BEGIN:STANDARD
TZOFFSETFROM:+0200
TZOFFSETTO:+0100
TZNAME:CET
DTSTART:20191027T010000
END:STANDARD
BEGIN:DAYLIGHT
TZOFFSETFROM:+0100
TZOFFSETTO:+0200
TZNAME:CEST
DTSTART:20200329T010000
END:DAYLIGHT
BEGIN:STANDARD
TZOFFSETFROM:+0200
TZOFFSETTO:+0100
TZNAME:CET
DTSTART:20201025T010000
END:STANDARD
BEGIN:DAYLIGHT
TZOFFSETFROM:+0100
TZOFFSETTO:+0200
TZNAME:CEST
DTSTART:20210328T010000
END:DAYLIGHT
BEGIN:STANDARD
TZOFFSETFROM:+0200
TZOFFSETTO:+0100
TZNAME:CET
DTSTART:20211031T010000
END:STANDARD
BEGIN:DAYLIGHT
TZOFFSETFROM:+0100
TZOFFSETTO:+0200
TZNAME:CEST
DTSTART:20220327T010000
END:DAYLIGHT
BEGIN:STANDARD
TZOFFSETFROM:+0200
TZOFFSETTO:+0100
TZNAME:CET
DTSTART:20221030T010000
END:STANDARD
END:VTIMEZONE
BEGIN:VEVENT
DTSTART;TZID=Europe/Paris:20200627T210000
DTEND;TZID=Europe/Paris:20200627T210000
DTSTAMP:20260426T055500
CREATED:20200615T130352Z
LAST-MODIFIED:20200615T130352Z
UID:8359-1593291600-1593291600@kravin.info
SUMMARY:Helax Rio Carnival
DESCRIPTION:
URL:https://kravin.info/udalost/helax-rio-carnival/
LOCATION:Areál klubu\, Hlučínská 680\, Dolní Benešov\, Moravskoslezký kraj\, 74722\, Česká republika
ATTACH;FMTTYPE=image/jpeg:https://kravin.info/wp-content/uploads/2020/06/OA-Helax2020-plakát-A3-Dolní-Benešov-27_6_2020.jpg
ORGANIZER;CN="Klub Krav%C3%ADn":MAILTO:kravin@kravin.info
END:VEVENT
BEGIN:VEVENT
DTSTART;TZID=Europe/Paris:20200704T210000
DTEND;TZID=Europe/Paris:20200704T210000
DTSTAMP:20260426T055500
CREATED:20200610T120145Z
LAST-MODIFIED:20200610T120145Z
UID:8229-1593896400-1593896400@kravin.info
SUMMARY:Music Mix
DESCRIPTION:
URL:https://kravin.info/udalost/music-mix-3/
LOCATION:Areál klubu\, Hlučínská 680\, Dolní Benešov\, Moravskoslezký kraj\, 74722\, Česká republika
ATTACH;FMTTYPE=image/jpeg:https://kravin.info/wp-content/uploads/2020/06/mix_2020_02_03.jpeg
ORGANIZER;CN="Klub Krav%C3%ADn":MAILTO:kravin@kravin.info
END:VEVENT
BEGIN:VEVENT
DTSTART;TZID=Europe/Paris:20200705T210000
DTEND;TZID=Europe/Paris:20200705T210000
DTSTAMP:20260426T055500
CREATED:20200609T131201Z
LAST-MODIFIED:20200627T070902Z
UID:8223-1593982800-1593982800@kravin.info
SUMMARY:RETROMÁNIE
DESCRIPTION:Mušketýři na deskách – to je parta legendárních DJ  na Ostravsku a Karvinsku\, kteří hrávali už v dobách\, kdy prezident Husák měl dvojky dioptrie. Na jejich diskotékách vyrůstali další nadějní „pouštěči“\, až to došlo kam to došlo. \nProto se v různých alternacích dohodla skupinka zkušených DJ´s\, že vyjedou ven a dají vzpomenout legraci\, zábavě\, starým hitům i neotřelým tanců. Uslyšíte co jste v životě neviděli a uvidíte\, co jste v životě neslyšeli. 60-70-80-90 léta – tj to pravé\, tj retro kategorie\, o kterou tady jde. DJ Tiesta\, Beyonce\, a jiné současné umělce\, pěvce a recitátory necháme osudu a možná „dojížděči“ akce – tj náš Planchet:-D. Ottawan\, Harpo\, Sarragozza band\, ale i Dr.Alban\, Samatha Fox či Falco\, Bee Gees nebo ABBA\, Fun Factory či dokonce Mr.President- na to a řadu dalších hitů se můžete těšit 5.7.- kdy moravské věrozvěsty Cyrouše a Metúda přijedou podpořit Mušketýři na deskách.
URL:https://kravin.info/udalost/retromanie/
LOCATION:Areál klubu\, Hlučínská 680\, Dolní Benešov\, Moravskoslezký kraj\, 74722\, Česká republika
ATTACH;FMTTYPE=image/jpeg:https://kravin.info/wp-content/uploads/2020/06/RETROMÁNIE_MUŠKETÝŘI_aktualiz_2020_A4_EL-verze.jpg
ORGANIZER;CN="Klub Krav%C3%ADn":MAILTO:kravin@kravin.info
END:VEVENT
BEGIN:VEVENT
DTSTART;TZID=Europe/Paris:20200711T210000
DTEND;TZID=Europe/Paris:20200711T210000
DTSTAMP:20260426T055500
CREATED:20200619T103306Z
LAST-MODIFIED:20200710T064644Z
UID:8379-1594501200-1594501200@kravin.info
SUMMARY:ROXTAR a Adolfeen v Kravíně
DESCRIPTION:
URL:https://kravin.info/udalost/roxtar-a-adolfeen-v-kravine/
LOCATION:Kravín\, Hlučínská 680\, Dolní Benešov\, Moravskoslezký kraj\, 74722\, Česká republika
ATTACH;FMTTYPE=image/jpeg:https://kravin.info/wp-content/uploads/2020/06/roxtar_2020_03.jpg
END:VEVENT
BEGIN:VEVENT
DTSTART;TZID=Europe/Paris:20200718T210000
DTEND;TZID=Europe/Paris:20200718T210000
DTSTAMP:20260426T055500
CREATED:20200627T070407Z
LAST-MODIFIED:20200627T070407Z
UID:8391-1595106000-1595106000@kravin.info
SUMMARY:KRAVÍN víc než kravín
DESCRIPTION:
URL:https://kravin.info/udalost/kravin-vic-nez-kravin/
LOCATION:Areál klubu\, Hlučínská 680\, Dolní Benešov\, Moravskoslezký kraj\, 74722\, Česká republika
ATTACH;FMTTYPE=image/jpeg:https://kravin.info/wp-content/uploads/2020/06/kravin_kravin_tisk_spad_leto2020_02www.jpg
ORGANIZER;CN="Klub Krav%C3%ADn":MAILTO:kravin@kravin.info
END:VEVENT
BEGIN:VEVENT
DTSTART;TZID=Europe/Paris:20200725T210000
DTEND;TZID=Europe/Paris:20200725T210000
DTSTAMP:20260426T055500
CREATED:20200707T103901Z
LAST-MODIFIED:20200710T063150Z
UID:8409-1595710800-1595710800@kravin.info
SUMMARY:107.Oldies party
DESCRIPTION:
URL:https://kravin.info/udalost/107-oldies-party/
LOCATION:Kravín\, Hlučínská 680\, Dolní Benešov\, Moravskoslezký kraj\, 74722\, Česká republika
ATTACH;FMTTYPE=image/jpeg:https://kravin.info/wp-content/uploads/2020/07/old107_nova_01.jpg
END:VEVENT
BEGIN:VEVENT
DTSTART;TZID=Europe/Paris:20200801T210000
DTEND;TZID=Europe/Paris:20200801T210000
DTSTAMP:20260426T055500
CREATED:20200707T104903Z
LAST-MODIFIED:20200707T104903Z
UID:8435-1596315600-1596315600@kravin.info
SUMMARY:Soukromá akce
DESCRIPTION:
URL:https://kravin.info/udalost/soukroma-akce-7/
LOCATION:Areál klubu\, Hlučínská 680\, Dolní Benešov\, Moravskoslezký kraj\, 74722\, Česká republika
ATTACH;FMTTYPE=image/jpeg:https://kravin.info/wp-content/uploads/2018/06/zavřeno.jpg
ORGANIZER;CN="Klub Krav%C3%ADn":MAILTO:kravin@kravin.info
END:VEVENT
BEGIN:VEVENT
DTSTART;TZID=Europe/Paris:20200808T210000
DTEND;TZID=Europe/Paris:20200808T210000
DTSTAMP:20260426T055500
CREATED:20200707T104530Z
LAST-MODIFIED:20200707T104606Z
UID:8431-1596920400-1596920400@kravin.info
SUMMARY:Soukromá akce
DESCRIPTION:
URL:https://kravin.info/udalost/soukroma-akce-6/
LOCATION:Areál klubu\, Hlučínská 680\, Dolní Benešov\, Moravskoslezký kraj\, 74722\, Česká republika
ATTACH;FMTTYPE=image/jpeg:https://kravin.info/wp-content/uploads/2018/06/zavřeno.jpg
ORGANIZER;CN="Klub Krav%C3%ADn":MAILTO:kravin@kravin.info
END:VEVENT
BEGIN:VEVENT
DTSTART;TZID=Europe/Paris:20200815T210000
DTEND;TZID=Europe/Paris:20200815T210000
DTSTAMP:20260426T055500
CREATED:20200813T094621Z
LAST-MODIFIED:20200813T094621Z
UID:8445-1597525200-1597525200@kravin.info
SUMMARY:Captain Morgan TIKI párty
DESCRIPTION:
URL:https://kravin.info/udalost/captain-morgan-tiki-party/
LOCATION:Areál klubu\, Hlučínská 680\, Dolní Benešov\, Moravskoslezký kraj\, 74722\, Česká republika
ATTACH;FMTTYPE=image/jpeg:https://kravin.info/wp-content/uploads/2020/08/tiki15.jpg
END:VEVENT
BEGIN:VEVENT
DTSTART;TZID=Europe/Paris:20200822T210000
DTEND;TZID=Europe/Paris:20200822T210000
DTSTAMP:20260426T055500
CREATED:20200813T094741Z
LAST-MODIFIED:20200813T094741Z
UID:8451-1598130000-1598130000@kravin.info
SUMMARY:HELAX Rio Carnival
DESCRIPTION:
URL:https://kravin.info/udalost/helax-rio-carnival-2/
LOCATION:Areál klubu\, Hlučínská 680\, Dolní Benešov\, Moravskoslezký kraj\, 74722\, Česká republika
ATTACH;FMTTYPE=image/jpeg:https://kravin.info/wp-content/uploads/2020/08/helax22.8.jpeg
END:VEVENT
BEGIN:VEVENT
DTSTART;TZID=Europe/Paris:20200829T210000
DTEND;TZID=Europe/Paris:20200829T210000
DTSTAMP:20260426T055500
CREATED:20200813T094853Z
LAST-MODIFIED:20200813T094853Z
UID:8457-1598734800-1598734800@kravin.info
SUMMARY:108.Oldies párty
DESCRIPTION:
URL:https://kravin.info/udalost/108-oldies-party/
LOCATION:Areál klubu\, Hlučínská 680\, Dolní Benešov\, Moravskoslezký kraj\, 74722\, Česká republika
ATTACH;FMTTYPE=image/jpeg:https://kravin.info/wp-content/uploads/2020/08/old108_01.jpg
END:VEVENT
BEGIN:VEVENT
DTSTART;TZID=Europe/Paris:20200905T210000
DTEND;TZID=Europe/Paris:20200905T210000
DTSTAMP:20260426T055500
CREATED:20200825T115653Z
LAST-MODIFIED:20200825T115827Z
UID:8481-1599339600-1599339600@kravin.info
SUMMARY:Music MIX
DESCRIPTION:
URL:https://kravin.info/udalost/music-mix-4/
LOCATION:Areál klubu\, Hlučínská 680\, Dolní Benešov\, Moravskoslezký kraj\, 74722\, Česká republika
ATTACH;FMTTYPE=image/jpeg:https://kravin.info/wp-content/uploads/2020/08/mix_2020_03_01.jpg
END:VEVENT
BEGIN:VEVENT
DTSTART;TZID=Europe/Paris:20200912T210000
DTEND;TZID=Europe/Paris:20200912T210000
DTSTAMP:20260426T055500
CREATED:20200902T064137Z
LAST-MODIFIED:20200902T064147Z
UID:8485-1599944400-1599944400@kravin.info
SUMMARY:NFIX & CANDICE
DESCRIPTION:
URL:https://kravin.info/udalost/nfix-candice-4/
LOCATION:Areál klubu\, Hlučínská 680\, Dolní Benešov\, Moravskoslezký kraj\, 74722\, Česká republika
ATTACH;FMTTYPE=image/jpeg:https://kravin.info/wp-content/uploads/2020/09/nfix_candice_2020_02.jpg
END:VEVENT
BEGIN:VEVENT
DTSTART;TZID=Europe/Paris:20200919T210000
DTEND;TZID=Europe/Paris:20200919T210000
DTSTAMP:20260426T055500
CREATED:20200904T083449Z
LAST-MODIFIED:20200904T083457Z
UID:8499-1600549200-1600549200@kravin.info
SUMMARY:Dance4ever a Hovada západu
DESCRIPTION:
URL:https://kravin.info/udalost/dance4ever-a-hovada-zapadu/
LOCATION:Areál klubu\, Hlučínská 680\, Dolní Benešov\, Moravskoslezký kraj\, 74722\, Česká republika
ATTACH;FMTTYPE=image/jpeg:https://kravin.info/wp-content/uploads/2020/09/dance_hovada_2020_04.jpg
END:VEVENT
BEGIN:VEVENT
DTSTART;TZID=Europe/Paris:20200926T210000
DTEND;TZID=Europe/Paris:20200926T210000
DTSTAMP:20260426T055500
CREATED:20200907T123144Z
LAST-MODIFIED:20201026T084601Z
UID:8511-1601154000-1601154000@kravin.info
SUMMARY:109.Oldies párty
DESCRIPTION:
URL:https://kravin.info/udalost/109-oldies-party/
LOCATION:Kravín\, Hlučínská 680\, Dolní Benešov\, Moravskoslezký kraj\, 74722\, Česká republika
ATTACH;FMTTYPE=image/jpeg:https://kravin.info/wp-content/uploads/2020/09/old109_01.jpg
END:VEVENT
BEGIN:VEVENT
DTSTART;TZID=Europe/Paris:20201003T210000
DTEND;TZID=Europe/Paris:20201003T210000
DTSTAMP:20260426T055500
CREATED:20200915T100152Z
LAST-MODIFIED:20201026T084526Z
UID:8525-1601758800-1601758800@kravin.info
SUMMARY:21.Narozeniny Kravína
DESCRIPTION:
URL:https://kravin.info/udalost/21-narozeniny-kravina/
LOCATION:Kravín\, Hlučínská 680\, Dolní Benešov\, Moravskoslezký kraj\, 74722\, Česká republika
ATTACH;FMTTYPE=image/jpeg:https://kravin.info/wp-content/uploads/2020/09/21narozky_2020_03-1.jpeg
END:VEVENT
BEGIN:VEVENT
DTSTART;TZID=Europe/Paris:20201010T210000
DTEND;TZID=Europe/Paris:20201010T210000
DTSTAMP:20260426T055500
CREATED:20200925T063541Z
LAST-MODIFIED:20200925T063554Z
UID:8559-1602363600-1602363600@kravin.info
SUMMARY:Michael Burian v Kravíně
DESCRIPTION:
URL:https://kravin.info/udalost/michael-burian-v-kravine/
LOCATION:Areál Kravína
ATTACH;FMTTYPE=image/jpeg:https://kravin.info/wp-content/uploads/2020/09/burian2020_01.jpg
END:VEVENT
BEGIN:VEVENT
DTSTART;VALUE=DATE:20210611
DTEND;VALUE=DATE:20210614
DTSTAMP:20260426T055500
CREATED:20210202T105650Z
LAST-MODIFIED:20210202T105659Z
UID:8653-1623369600-1623628799@kravin.info
SUMMARY:3.Motokravín
DESCRIPTION:
URL:https://kravin.info/udalost/3-motokravin/
LOCATION:Areál Kravína
ATTACH;FMTTYPE=image/jpeg:https://kravin.info/wp-content/uploads/2021/02/motokravin_sirka_2021_08www.jpg
END:VEVENT
BEGIN:VEVENT
DTSTART;TZID=Europe/Paris:20210619T210000
DTEND;TZID=Europe/Paris:20210620T040000
DTSTAMP:20260426T055500
CREATED:20210615T075040Z
LAST-MODIFIED:20210615T075040Z
UID:8701-1624136400-1624161600@kravin.info
SUMMARY:ROXTAR a Adolfeen v Krafíně
DESCRIPTION:
URL:https://kravin.info/udalost/roxtar-a-adolfeen-v-krafine/
LOCATION:Areál Kravína
ATTACH;FMTTYPE=image/jpeg:https://kravin.info/wp-content/uploads/2021/06/roxtar_2021_06.jpg
END:VEVENT
BEGIN:VEVENT
DTSTART;TZID=Europe/Paris:20210626T210000
DTEND;TZID=Europe/Paris:20210626T210000
DTSTAMP:20260426T055500
CREATED:20210618T151244Z
LAST-MODIFIED:20210618T151244Z
UID:8713-1624741200-1624741200@kravin.info
SUMMARY:110. Oldies párty
DESCRIPTION:
URL:https://kravin.info/udalost/110-oldies-party/
LOCATION:Areál Kravína
ATTACH;FMTTYPE=image/jpeg:https://kravin.info/wp-content/uploads/2021/06/old110_01.jpg
END:VEVENT
BEGIN:VEVENT
DTSTART;TZID=Europe/Paris:20210703T210000
DTEND;TZID=Europe/Paris:20210703T210000
DTSTAMP:20260426T055500
CREATED:20210628T132543Z
LAST-MODIFIED:20210628T132543Z
UID:8731-1625346000-1625346000@kravin.info
SUMMARY:6\,5 narozeniny Kravína v novém
DESCRIPTION:
URL:https://kravin.info/udalost/65-narozeniny-kravina-v-novem/
LOCATION:Areál Kravína
ATTACH;FMTTYPE=image/jpeg:https://kravin.info/wp-content/uploads/2021/06/6narozeniny_05.jpg
END:VEVENT
BEGIN:VEVENT
DTSTART;TZID=Europe/Paris:20210705T210000
DTEND;TZID=Europe/Paris:20210705T210000
DTSTAMP:20260426T055500
CREATED:20210703T161719Z
LAST-MODIFIED:20210703T161719Z
UID:8765-1625518800-1625518800@kravin.info
SUMMARY:Sváteční speciál
DESCRIPTION:
URL:https://kravin.info/udalost/svatecni-special/
LOCATION:Areál Kravína
ATTACH;FMTTYPE=image/jpeg:https://kravin.info/wp-content/uploads/2021/07/svatecni_special_2021_02.jpg
END:VEVENT
BEGIN:VEVENT
DTSTART;TZID=Europe/Paris:20210710T210000
DTEND;TZID=Europe/Paris:20210710T210000
DTSTAMP:20260426T055500
CREATED:20210701T165649Z
LAST-MODIFIED:20210701T165649Z
UID:8753-1625950800-1625950800@kravin.info
SUMMARY:Captain Morgan párty
DESCRIPTION:
URL:https://kravin.info/udalost/captain-morgan-party-5/
LOCATION:Areál Kravína
ATTACH;FMTTYPE=image/jpeg:https://kravin.info/wp-content/uploads/2021/07/morgan_2021_04.jpeg
END:VEVENT
BEGIN:VEVENT
DTSTART;TZID=Europe/Paris:20210717T210000
DTEND;TZID=Europe/Paris:20210717T210000
DTSTAMP:20260426T055500
CREATED:20210708T131028Z
LAST-MODIFIED:20210708T131028Z
UID:8791-1626555600-1626555600@kravin.info
SUMMARY:MUSICCHART - tophits21
DESCRIPTION:
URL:https://kravin.info/udalost/musicchart-tophits21/
LOCATION:Areál Kravína
ATTACH;FMTTYPE=image/jpeg:https://kravin.info/wp-content/uploads/2021/07/chart_2021_03.jpeg
END:VEVENT
BEGIN:VEVENT
DTSTART;TZID=Europe/Paris:20210724T210000
DTEND;TZID=Europe/Paris:20210724T210000
DTSTAMP:20260426T055500
CREATED:20210710T052731Z
LAST-MODIFIED:20210710T052731Z
UID:8839-1627160400-1627160400@kravin.info
SUMMARY:Jack Daniels párty
DESCRIPTION:
URL:https://kravin.info/udalost/jack-daniels-party/
LOCATION:Areál Kravína
ATTACH;FMTTYPE=image/jpeg:https://kravin.info/wp-content/uploads/2021/07/daniels_2021_01.jpg
END:VEVENT
BEGIN:VEVENT
DTSTART;TZID=Europe/Paris:20210731T210000
DTEND;TZID=Europe/Paris:20210731T210000
DTSTAMP:20260426T055500
CREATED:20210720T093732Z
LAST-MODIFIED:20210720T093732Z
UID:8859-1627765200-1627765200@kravin.info
SUMMARY:111.Oldies párty
DESCRIPTION:
URL:https://kravin.info/udalost/111-oldies-party/
LOCATION:Areál Kravína
ATTACH;FMTTYPE=image/jpeg:https://kravin.info/wp-content/uploads/2021/07/old111_03.jpg
END:VEVENT
BEGIN:VEVENT
DTSTART;TZID=Europe/Paris:20210807T210000
DTEND;TZID=Europe/Paris:20210807T210000
DTSTAMP:20260426T055500
CREATED:20210804T094020Z
LAST-MODIFIED:20210804T094040Z
UID:8903-1628370000-1628370000@kravin.info
SUMMARY:Soukromá akce - ZAVŘENO
DESCRIPTION:
URL:https://kravin.info/udalost/soukroma-akce-zavreno-2/
LOCATION:Areál Kravína
ATTACH;FMTTYPE=image/jpeg:https://kravin.info/wp-content/uploads/2018/06/zavřeno.jpg
END:VEVENT
BEGIN:VEVENT
DTSTART;TZID=Europe/Paris:20210814T210000
DTEND;TZID=Europe/Paris:20210814T210000
DTSTAMP:20260426T055500
CREATED:20210804T093337Z
LAST-MODIFIED:20210810T132447Z
UID:8881-1628974800-1628974800@kravin.info
SUMMARY:Dance4ever
DESCRIPTION:
URL:https://kravin.info/udalost/dance4ever-6/
LOCATION:Areál Kravína
ATTACH;FMTTYPE=image/jpeg:https://kravin.info/wp-content/uploads/2021/08/dance_2021_03.jpeg
END:VEVENT
BEGIN:VEVENT
DTSTART;TZID=Europe/Paris:20210821T210000
DTEND;TZID=Europe/Paris:20210821T210000
DTSTAMP:20260426T055500
CREATED:20210804T093453Z
LAST-MODIFIED:20210804T093503Z
UID:8887-1629579600-1629579600@kravin.info
SUMMARY:Music MIX
DESCRIPTION:
URL:https://kravin.info/udalost/music-mix-5/
LOCATION:Areál Kravína
ATTACH;FMTTYPE=image/jpeg:https://kravin.info/wp-content/uploads/2021/08/mix_2021_02.jpg
END:VEVENT
BEGIN:VEVENT
DTSTART;TZID=Europe/Paris:20210828T210000
DTEND;TZID=Europe/Paris:20210828T210000
DTSTAMP:20260426T055500
CREATED:20210816T124052Z
LAST-MODIFIED:20210816T124109Z
UID:8921-1630184400-1630184400@kravin.info
SUMMARY:112. Oldies párty
DESCRIPTION:
URL:https://kravin.info/udalost/112-oldies-party/
LOCATION:Areál Kravína
ATTACH;FMTTYPE=image/jpeg:https://kravin.info/wp-content/uploads/2021/08/old112_03.jpeg
END:VEVENT
END:VCALENDAR